BEGIN:VCALENDAR
VERSION:2.0
PRODID:-//ChamberMaster//Event Calendar 2.0//EN
METHOD:PUBLISH
X-PUBLISHED-TTL:P3D
REFRESH-INTERVAL:P3D
CALSCALE:GREGORIAN
BEGIN:VEVENT
DTSTART:20230815T123000Z
DTEND:20230815T133000Z
X-MICROSOFT-CDO-ALLDAYEVENT:FALSE
SUMMARY:Coffee Connection - Prattville Millbrook Sunrise Rotary with P'zazz Uptown
DESCRIPTION:Join us for a Coffee Connections event on August 15!\n\n\n\nCoffee Connections\n\nsponsored by\n\nPrattville Millbrook Sunrise Rotary\n\nTuesday\, August 15\, 2023\n\n7:30 - 8:30 a.m.\n\nCoffee Connections events are highly-regarded as an excellent networking opportunities\, offering guests the chance to meet people representing products and services in a relaxed\, social setting.\n\n\n\nPeople do business with people they know\, so come meet and mingle with fellow members. Bring a stack of business cards!
X-ALT-DESC;FMTTYPE=text/html:<p><span style="font-family: tahoma\;"><span style="font-size: 12px\;"><span style="color: rgb(51\, 51\, 51)\;">Join us for a&nbsp\;Coffee Connections event on August 15!</span><br />\n<br />\n<strong><span style="color: rgb(51\, 51\, 51)\;">Coffee Connections</span></strong><br />\n<em><span style="color: rgb(51\, 51\, 51)\;">sponsored by</span></em><br />\n<strong>Prattville Millbrook Sunrise Rotary</strong><br />\n<span style="color: rgb(51\, 51\, 51)\;">Tuesday\, August 15\,&nbsp\;2023<br />\n7:30 - 8:30 a.m.</span></span></span></p>\n\n<p><span style="font-family: tahoma\;"><span style="font-size: 12px\;"><span style="color: rgb(51\, 51\, 51)\;">Coffee Connections events are highly-regarded as an excellent networking opportunities\,&nbsp\;offering&nbsp\;guests the chance to meet people representing products and services in a relaxed\, social setting.</span><br />\n<br />\n<span style="color: rgb(51\, 51\, 51)\;">People do business with people they know\, so come meet and mingle with fellow members. Bring a stack of business cards!</span></span></span><br />\n<br />\n<br />\n<br />\n<br />\n<br />\n&nbsp\;</p>\n
LOCATION:1812 Glynwood Drive\, Prattville\, AL
UID:e.1954.2087
SEQUENCE:3
DTSTAMP:20260423T143806Z
URL:https://online.prattvillechamber.com/events/details/coffee-connection-prattville-millbrook-sunrise-rotary-with-p-zazz-uptown-2087
END:VEVENT

END:VCALENDAR
