BEGIN:VCALENDAR
VERSION:2.0
PRODID:-//ChamberMaster//Event Calendar 2.0//EN
METHOD:PUBLISH
X-PUBLISHED-TTL:P3D
REFRESH-INTERVAL:P3D
CALSCALE:GREGORIAN
BEGIN:VEVENT
DTSTART:20251203T170000Z
DTEND:20251203T190000Z
X-MICROSOFT-CDO-ALLDAYEVENT:FALSE
SUMMARY:Christmas Open House
DESCRIPTION:Join us Wednesday\, December 3rd from 11:00AM- 1:00PM for our Christmas Open House! This is a time for us to express our gratitude and appreciation for the confidence you place in us. This annual event allows us all to slow down during the busy holiday season and come together to reflect on the accomplishments of the year and to celebrate our Chamber Community. \n\n\n\nIn that spirit\, we invite you to stop by for a quick bite or have a seat and stay awhile\, enjoy some delicious food\, networking and holiday cheer and laughter with your fellow business owners\, chamber members\, community leaders and volunteers. \n\n\n\nIt's our way of saying "Thank You" for investing in the Prattville Area Chamber of Commerce and our community. We look forward to seeing you!
X-ALT-DESC;FMTTYPE=text/html:<div style="text-align: center\;">&nbsp\;</div>\n<span style="color: rgb(29\, 33\, 41)\; font-family: Helvetica\, Arial\, sans-serif\; font-size: 14px\; white-space: pre-wrap\; background-color: rgb(255\, 255\, 255)\;">Join us Wednesday\, December 3rd from 11:00AM- 1:00PM for our Christmas Open House! This is a time for us to </span><span style="color: rgb(29\, 33\, 41)\; font-family: Helvetica\, Arial\, sans-serif\; font-size: 14px\; white-space: pre-wrap\; background-color: rgb(255\, 255\, 255)\;">express our gratitude and appreciation for the confidence you place in us. This annual event allows us all to slow down during the busy holiday season and come together to reflect on the accomplishments of the year and to celebrate our Chamber Community. </span><br style="color: rgb(29\, 33\, 41)\; font-family: Helvetica\, Arial\, sans-serif\; font-size: 14px\; white-space: pre-wrap\; background-color: rgb(255\, 255\, 255)\;" />\n<br style="color: rgb(29\, 33\, 41)\; font-family: Helvetica\, Arial\, sans-serif\; font-size: 14px\; white-space: pre-wrap\; background-color: rgb(255\, 255\, 255)\;" />\n<span style="color: rgb(29\, 33\, 41)\; font-family: Helvetica\, Arial\, sans-serif\; font-size: 14px\; white-space: pre-wrap\; background-color: rgb(255\, 255\, 255)\;">In that spirit\, we invite you to stop by for a quick bite or have a seat and stay awhile\, enjoy some delicious food\, networking and holiday cheer and laughter with your fellow business owners\, chamber members\, community leaders and volunteers. </span><br style="color: rgb(29\, 33\, 41)\; font-family: Helvetica\, Arial\, sans-serif\; font-size: 14px\; white-space: pre-wrap\; background-color: rgb(255\, 255\, 255)\;" />\n<br style="color: rgb(29\, 33\, 41)\; font-family: Helvetica\, Arial\, sans-serif\; font-size: 14px\; white-space: pre-wrap\; background-color: rgb(255\, 255\, 255)\;" />\n<span style="color: rgb(29\, 33\, 41)\; font-family: Helvetica\, Arial\, sans-serif\; font-size: 14px\; white-space: pre-wrap\; background-color: rgb(255\, 255\, 255)\;">It&#39\;s our way of saying &quot\;Thank You&quot\; for investing in the </span><a href="https://www.facebook.com/prattvillechamber/" style="color: rgb(56\, 88\, 152)\; cursor: pointer\; text-decoration-line: none\; font-family: Helvetica\, Arial\, sans-serif\; font-size: 14px\; white-space: pre-wrap\; background-color: rgb(255\, 255\, 255)\;" target="_blank">Prattville Area Chamber of Commerce</a><span style="color: rgb(29\, 33\, 41)\; font-family: Helvetica\, Arial\, sans-serif\; font-size: 14px\; white-space: pre-wrap\; background-color: rgb(255\, 255\, 255)\;"> and our community. We look forward to seeing you!</span>
LOCATION:Prattville Area Chamber of Commerce 131 N. Court Street Prattville\, AL 36067
UID:e.1954.2219
SEQUENCE:3
DTSTAMP:20260422T194638Z
URL:https://online.prattvillechamber.com/events/details/christmas-open-house-2219
END:VEVENT

END:VCALENDAR
