BEGIN:VCALENDAR
VERSION:2.0
PRODID:-//ChamberMaster//Event Calendar 2.0//EN
METHOD:PUBLISH
X-PUBLISHED-TTL:P3D
REFRESH-INTERVAL:P3D
CALSCALE:GREGORIAN
BEGIN:VEVENT
DTSTART:20220720T164500Z
DTEND:20220720T180000Z
X-MICROSOFT-CDO-ALLDAYEVENT:FALSE
SUMMARY:Chamber Luncheon | Sponsored by Prattville Baptist Hospital
DESCRIPTION:You're invited to join us for the July Chamber Luncheon sponsored by Prattville Baptist Hospital!\n\n\n\nGain a little knowledge while building your connections by joining the Prattville Area Chamber of Commerce and our members for the Chamber Champion Luncheon sponsored by Prattville Baptist Hospital. The Chamber's Monthly Luncheons are a great opportunity to connect with other business leaders in the area and each month is educational and completely different. This luncheon will feature a special presentation from Chris Paul\, Director of Clinical Operations for the Montgomery Radiology Associates\, P.A.\n\nMake your reservation and join us for a Chamber Luncheon with your Prattville Chamber! This is a great networking opportunity. Bring your business cards!\n\n\n\nMember login information is not available. If you are a member click the blue "register now" button and use the "Not a Member" link in the upper right side of the page to complete your online registration. You may also register by clicking the link below:\n\n\n\nClick here to register for the July Monthly Luncheon\n\n\n\nTicket sales end close of business on July 19.
X-ALT-DESC;FMTTYPE=text/html:<p><span style="font-size: 16px\;"><span style="font-family: arial\;"><span style="font-size:18px\;"><strong>You&rsquo\;re invited to join us for the July&nbsp\;Chamber Luncheon sponsored by Prattville Baptist Hospital!</strong></span><br />\n<br />\n<span data-offset-key="3pg81-4-0" style="white-space: pre-wrap\;"><span data-text="true">Gain a little knowledge while building your connections by joining the Prattville Area Chamber of Commerce and our members for the Chamber Champion Luncheon sponsored by Prattville Baptist Hospital. The Chamber&#39\;s Monthly Luncheons are a great opportunity to connect with other business leaders in the area and each month is educational and completely different. This luncheon will feature a special presentation from Chris Paul\, Director of Clinical Operations for the Montgomery Radiology Associates\, P.A.</span></span></span></span></p>\n\n<p><span style="font-size: 16px\;"><span style="font-family: arial\; white-space: pre-wrap\;">Make your reservation and join us for a Chamber Luncheon with your Prattville Chamber! </span><em style="font-family: arial\;"><span style="font-style: normal\;">This is a great networking opportunity.&nbsp\;Bring your business cards!</span></em></span><br />\n<br />\n<span style="font-family: arial\;"><span style="font-size: 16px\;"><strong><span style="color: rgb(255\, 0\, 0)\;">Member login information is not available. If you are a member click the blue</span>&nbsp\;&quot\;<a href="https://prattvillechamber.chambermaster.com/eventregistration/register/1982">register now</a>&quot\;&nbsp\;<span style="color: rgb(255\, 0\, 0)\;">button and use the &quot\;<u>Not a Member</u>&quot\; link in the upper right side of the page to complete your online registration. You may also register by clicking the link below:</span></strong><br />\n<br />\n<u><strong><a href="https://prattvillechamber.chambermaster.com/eventregistration/register/1982">Click here to register for the July&nbsp\;Monthly Luncheon</a></strong></u><br />\n<br />\n<span style="color: rgb(255\, 0\, 0)\;"><strong>Ticket sales end close of business on July 19.</strong></span></span></span></p>\n
LOCATION:Marriott Legends 2500 Legends Circle Prattville\, AL 36066
UID:e.1954.1982
SEQUENCE:3
DTSTAMP:20260424T112044Z
URL:https://online.prattvillechamber.com/events/details/chamber-luncheon-sponsored-by-prattville-baptist-hospital-1982
END:VEVENT

END:VCALENDAR
