BEGIN:VCALENDAR
VERSION:2.0
PRODID:-//ChamberMaster//Event Calendar 2.0//EN
METHOD:PUBLISH
X-PUBLISHED-TTL:P3D
REFRESH-INTERVAL:P3D
CALSCALE:GREGORIAN
BEGIN:VEVENT
DTSTART:20220303T223000Z
DTEND:20220304T003000Z
X-MICROSOFT-CDO-ALLDAYEVENT:FALSE
SUMMARY:Career Day Open House
DESCRIPTION:The Prattville Area Chamber of Commerce and Autauga County Technology Center are hosting a Career Day open house from 4:30-6:30 P.M. at 1301 Upper Kingston Road. Parents\, students and the community are invited!\n\nThis event will feature a variety of exhibitors\, made up of local industries and businesses. These organizations will highlight company information and share relevant skill sets for their career paths. The Prattville Chamber is proud to work with ACTC. For more information\, please contact Allison Powell at apowell@prattvillechamber.com.
X-ALT-DESC;FMTTYPE=text/html:<div style="color: rgb(0\, 0\, 0)\; font-family: Arial\, Verdana\, Helvetica\, sans-serif\; font-size: 14px\; white-space: pre-wrap\;">\n<div style="color: rgb(0\, 0\, 0)\; font-family: Arial\, Verdana\, Helvetica\, sans-serif\; font-size: 14px\; white-space: pre-wrap\;"><span style="font-weight: bold\;">The Prattville Area Chamber of Commerce and Autauga County Technology Center are hosting a Career Day open house from 4:30-6:30 P.M. at 1301 Upper Kingston Road. Parents\, students and the community are invited!</span></div>\n\n<div style="color: rgb(0\, 0\, 0)\; font-family: Arial\, Verdana\, Helvetica\, sans-serif\; font-size: 14px\; white-space: pre-wrap\;">This event will feature a variety of exhibitors\, made up of local industries and businesses. These organizations will highlight company information and share relevant skill sets for their career paths.&nbsp\;The Prattville Chamber is proud to work with ACTC. For more information\, please contact Allison Powell at <a data-link-type="web" href="http://apowell@prattvillechamber.com/" rel="noopener noreferrer" style="color: rgb(0\, 0\, 0)\;" target="_blank">apowell@prattvillechamber.com</a>.</div>\n</div>\n
LOCATION:1301 Upper Kingston Road Prattville\, AL 36067
UID:e.1954.1953
SEQUENCE:3
DTSTAMP:20260424T174151Z
URL:https://online.prattvillechamber.com/events/details/career-day-open-house-1953
END:VEVENT

END:VCALENDAR
