BEGIN:VCALENDAR
VERSION:2.0
PRODID:-//ChamberMaster//Event Calendar 2.0//EN
METHOD:PUBLISH
X-PUBLISHED-TTL:P3D
REFRESH-INTERVAL:P3D
CALSCALE:GREGORIAN
BEGIN:VEVENT
DTSTART:20231019T223000Z
DTEND:20231019T233000Z
X-MICROSOFT-CDO-ALLDAYEVENT:FALSE
SUMMARY:Business Mixer sponsored by Synovus
DESCRIPTION:Join us for a Business Mixer October 19 from 5:30-6:30! Synovus will be hosting this event at the Buena Vista Mansion.\n\n\n\nGrab a co-worker or a friend who needs to "Plug-In" with the Chamber and join us for a great Business Mixer After Hours! Come network with other members and community leaders while enjoying great food from Longhorn Steakhouse. Be sure to bring your business cards for networking and door prizes! \n\n \n\nBusiness Mixer's are FREE\, but we need you to register so we will be ready for YOU!\n\n\n\nClick here to register!
X-ALT-DESC;FMTTYPE=text/html:<div style="text-align: justify\;"><span style="font-family:arial\;"><span style="font-size:18px\;"><span style="color: rgb(5\, 5\, 5)\; font-weight: 700\; text-align: center\; white-space-collapse: preserve\;">Join us for a Business Mixer October 19 from 5:30-6:30! Synovus will be hosting this event at the Buena Vista Mansion.</span><br />\n<br />\nGrab a co-worker or a friend who needs to &quot\;Plug-In&quot\; with the Chamber and join us for a great Business Mixer After Hours! Come network with other members and community leaders while enjoying great food from Longhorn Steakhouse. Be sure to bring your business cards for networking and door prizes!&nbsp\;</span></span><br />\n&nbsp\;</div>\n\n<div><span style="font-family:arial\;"><span style="font-size:20px\;"><span style="color:#FF0000\;"><strong>Business Mixer&#39\;s are FREE\, but we need you to register so we will be ready for YOU!</strong></span><br />\n<br />\n<span style="font-size:24px\;"><strong><u><a href="https://prattvillechamber.chambermaster.com/eventregistration/register/2105"><span style="color:#0000CD\;">Click here to register!</span></a></u></strong></span></span></span></div>\n
LOCATION:Buena Vista Mansion 641 County Road 4 East Prattville\, AL 36067
UID:e.1954.2105
SEQUENCE:3
DTSTAMP:20260423T110407Z
URL:https://online.prattvillechamber.com/events/details/business-mixer-sponsored-by-synovus-2105
END:VEVENT

END:VCALENDAR
