BEGIN:VCALENDAR
VERSION:2.0
PRODID:-//ChamberMaster//Event Calendar 2.0//EN
METHOD:PUBLISH
X-PUBLISHED-TTL:P3D
REFRESH-INTERVAL:P3D
CALSCALE:GREGORIAN
BEGIN:VEVENT
DTSTART:20230822T220000Z
DTEND:20230822T233000Z
X-MICROSOFT-CDO-ALLDAYEVENT:FALSE
SUMMARY:Business Mixer & Ribbon Cutting - Cloud 9 Aviation
DESCRIPTION:You're invited to join us for a Business Mixer/ Ribbon Cutting on August 22nd at 5:00 P.M.\, hosted by Cloud 9 Aviation at Grouby Field Airport (1450 Aviation Way) in Prattville. The Chamber's Business Mixers are a great way to finish out your day and get connected! Drop by and enjoy a time of fellowship\, networking\, and learn more about what Cloud 9 Aviation has to offer. \n\n\n\nPeople do business with people they know\, so come meet and mingle with fellow members. Bring a stack of business cards to share with others and to register for some amazing door prizes! \n\n\n\nBusiness Mixers are FREE but we ask you to register so we will be ready for you! We look forward to seeing you there.
X-ALT-DESC;FMTTYPE=text/html:<span style="box-sizing: border-box\; outline: 0px\; color: rgb(68\, 68\, 68)\; font-family: arial\; font-size: 16px\;" tabindex="0">You&#39\;re invited to join us&nbsp\;for a Business Mixer/ Ribbon Cutting on August 22nd at 5:00 P.M.\, hosted by Cloud 9 Aviation at&nbsp\;</span><span style="font-size:14px\;"><span style="font-size:16px\;"><span style="font-family:arial\;">Grouby Field Airport (1450 Aviation Way)</span></span> in</span>&nbsp\;<span style="box-sizing: border-box\; outline: 0px\; color: rgb(68\, 68\, 68)\; font-family: arial\; font-size: 16px\;" tabindex="0">Prattville.</span><span style="color: rgb(68\, 68\, 68)\; font-family: arial\, sans-serif\; font-size: 14px\;">&nbsp\;</span><span style="box-sizing: border-box\; color: rgb(68\, 68\, 68)\; font-family: arial\; font-size: 16px\;" tabindex="0">The Chamber&#39\;s Business Mixers&nbsp\;are a great way to finish out your day and get connected!&nbsp\;Drop by and enjoy a time of fellowship\, networking\,&nbsp\;and learn more about what&nbsp\;Cloud 9 Aviation has to offer.&nbsp\;</span><br style="box-sizing: border-box\; color: rgb(68\, 68\, 68)\; font-family: arial\; font-size: 16px\;" />\n<br style="box-sizing: border-box\; color: rgb(68\, 68\, 68)\; font-family: arial\; font-size: 16px\;" />\n<span style="box-sizing: border-box\; color: rgb(68\, 68\, 68)\; font-family: arial\; font-size: 16px\;" tabindex="0">People do business with people they know\, so come meet and mingle with fellow members. Bring a stack of business cards to share with others and to register for some amazing door prizes!&nbsp\;</span><br style="box-sizing: border-box\; color: rgb(68\, 68\, 68)\; font-family: arial\, sans-serif\; font-size: 14px\;" />\n<br style="box-sizing: border-box\; color: rgb(68\, 68\, 68)\; font-family: arial\, sans-serif\; font-size: 14px\;" />\n<span style="box-sizing: border-box\; color: rgb(68\, 68\, 68)\; font-size: 14px\; font-family: arial\;" tabindex="0"><span style="box-sizing: border-box\; font-size: 16px\;" tabindex="0"><span style="box-sizing: border-box\;" tabindex="0"><span style="box-sizing: border-box\; font-weight: bolder\;">Business Mixers&nbsp\;are FREE&nbsp\;but we ask you to&nbsp\;<a href="https://prattvillechamber.chambermaster.com/eventregistration/register/2088" style="box-sizing: border-box\; color: rgb(42\, 54\, 128)\; text-decoration-line: none\; background-color: transparent\; overflow-wrap: break-word\;" tabindex="0"><span style="box-sizing: border-box\; color: rgb(0\, 0\, 255)\;" tabindex="0">register</span></a>&nbsp\;so we will be ready for you! We look forward to seeing you there.</span></span></span></span>
LOCATION:Prattville-Grouby Field Airport (1450 Aviation Way\, Prattville\, Al 36067)
UID:e.1954.2088
SEQUENCE:3
DTSTAMP:20260423T142001Z
URL:https://online.prattvillechamber.com/events/details/business-mixer-ribbon-cutting-cloud-9-aviation-2088
END:VEVENT

END:VCALENDAR
