BEGIN:VCALENDAR
VERSION:2.0
PRODID:-//ChamberMaster//Event Calendar 2.0//EN
METHOD:PUBLISH
X-PUBLISHED-TTL:P3D
REFRESH-INTERVAL:P3D
CALSCALE:GREGORIAN
BEGIN:VEVENT
DTSTART:20230615T223000Z
DTEND:20230615T233000Z
X-MICROSOFT-CDO-ALLDAYEVENT:FALSE
SUMMARY:Business Mixer After Hours with River Region United Way
DESCRIPTION:You're invited to join us for a Business Mixer After Hours on June 15 at 5:30 P.M.\, hosted by River Region United Way at 1881 E Main Street in Prattville. The Chamber's Business Mixers are a great way to finish out your day and get connected! Drop by and enjoy a time of fellowship\, networking\, and learn more about what the River Region United Way can do for you. \n\n\n\nPeople do business with people they know\, so come meet and mingle with fellow members. Bring a stack of business cards to share with others and to register for some amazing door prizes! \n\n\n\nBusiness Mixers are FREE but we ask you to register so we will be ready for you! We look forward to seeing you there.\n\n\n\nMember login information is not available. If you are a Chamber Member\, click the blue "register now" button and use the "Not a Member" link in the upper right side of the page to complete your online registration. You may also click the link below to register:\n\n\n\nClick here to register for the Business Mixer
X-ALT-DESC;FMTTYPE=text/html:<p><span style="font-family:arial\;"><span style="font-size:16px\;">You&#39\;re invited to join us&nbsp\;for a Business Mixer After Hours on June 15&nbsp\;at 5:30 P.M.\, hosted by River Region United Way at 1881 E Main Street&nbsp\;in Prattville.</span></span><span style="font-family:arial\;"><span style="font-size:16px\;"><span style="background-color: rgb(255\, 255\, 255)\;">&nbsp\;</span></span></span><span style="font-family: arial\; font-size: 16px\;">The Chamber&#39\;s Business Mixers&nbsp\;are a great way to finish out your day and get connected!&nbsp\;Drop by and enjoy a time of fellowship\, networking\,&nbsp\;and learn more about what the River Region United Way can do for you.&nbsp\;</span><br style="font-family: arial\; font-size: 16px\;" />\n<br style="font-family: arial\; font-size: 16px\;" />\n<span style="font-family: arial\; font-size: 16px\;">People do business with people they know\, so come meet and mingle with fellow members. Bring a stack of business cards to share with others and to register for some amazing door prizes!&nbsp\;</span><br />\n<br />\n<span style="font-family:arial\;"><span style="font-size:16px\;"><span style="background-color: rgb(255\, 255\, 255)\;"><strong>Business Mixers&nbsp\;are FREE&nbsp\;but we ask you to<a href="https://prattvillechamber.chambermaster.com/eventregistration/register/2077"> </a><a href="https://prattvillechamber.chambermaster.com/eventregistration/register/2077"><span style="color:#0000FF\;">register</span></a> so we will be ready for you! We look forward to seeing you there.</strong></span></span></span><br />\n<br />\n<span style="box-sizing: border-box\; border: 0px solid rgb(51\, 51\, 51)\; font-weight: bolder\; -webkit-font-smoothing: antialiased\; -webkit-tap-highlight-color: transparent\; color: rgb(255\, 0\, 0)\; font-family: arial\; font-size: 16px\;">Member login information is not available. If you are a Chamber Member\, click the blue &quot\;</span><a href="https://prattvillechamber.chambermaster.com/eventregistration/register/2077"><span style="box-sizing: border-box\; border: 0px solid rgb(51\, 51\, 51)\; font-weight: bolder\; -webkit-font-smoothing: antialiased\; -webkit-tap-highlight-color: transparent\; font-family: arial\; font-size: 16px\;"><span style="color:#0000FF\;">register now</span></span></a><span style="box-sizing: border-box\; border: 0px solid rgb(51\, 51\, 51)\; font-weight: bolder\; -webkit-font-smoothing: antialiased\; -webkit-tap-highlight-color: transparent\; color: rgb(255\, 0\, 0)\; font-family: arial\; font-size: 16px\;">&quot\; button and use the &quot\;<u>Not a Member</u>&quot\; link in the upper right side of the page to complete your online registration. You may also click the link below to register:</span><br />\n<br />\n<a href="https://prattvillechamber.chambermaster.com/eventregistration/register/2077"><span style="color:#0000FF\;"><u><span style="box-sizing: border-box\; border: 0px solid rgb(51\, 51\, 51)\; font-weight: bolder\; -webkit-font-smoothing: antialiased\; -webkit-tap-highlight-color: transparent\; font-family: arial\; font-size: 16px\;">Click here to register for the Business Mixer</span></u></span></a>&nbsp\;</p>\n\n<div class="mod" data-attrid="kc:/location/location:hours" data-hveid="CAEQFw" data-md="1005" data-ved="2ahUKEwi-7MnPnuTfAhWKMd8KHTZID-MQkCkoAzAEegQIARAX" lang="en-US" style="padding-left: 15px\; padding-right: 15px\; line-height: 1.24\; clear: none\;">\n<div class="Z1hOCe">\n<div class="kno-fb-ctx zloOqf" data-dtype="d3ifr" data-local-attribute="d3oh" style="margin-top: 7px\;">\n<div class="r-iD3XaiT3oHrU" jsl="$t t-TzwsNicIE5w\;$x 0\;">\n<div style="color: rgb(34\, 34\, 34)\; font-family: Roboto\, arial\, sans-serif\; font-size: small\;"><g-lightbox class="knowledge-fact__kf-ohl iD3XaiT3oHrU-AHw9fM2Xomo r-iO6rQBvsEYiw" data-a="" data-df="false" data-rtid="iD3XaiT3oHrU" jsaction="lcm_lightbox_closed:r.ri4WYuxGg_Y" jsl="$x 1\;$t t-E3TsdUH5yNI\;$x 0\;"></g-lightbox></div>\n</div>\n</div>\n</div>\n</div>\n
LOCATION:Hancock Whitney Bank 1881 East Main Street Prattville\, AL 36066
UID:e.1954.2077
SEQUENCE:3
DTSTAMP:20260423T182324Z
URL:https://online.prattvillechamber.com/events/details/business-mixer-after-hours-with-river-region-united-way-2077
END:VEVENT

END:VCALENDAR
