BEGIN:VCALENDAR
VERSION:2.0
PRODID:-//ChamberMaster//Event Calendar 2.0//EN
METHOD:PUBLISH
X-PUBLISHED-TTL:P3D
REFRESH-INTERVAL:P3D
CALSCALE:GREGORIAN
BEGIN:VEVENT
DTSTART:20220505T220000Z
DTEND:20220506T010000Z
X-MICROSOFT-CDO-ALLDAYEVENT:FALSE
SUMMARY:Autauga County Board of Education Candidate Forum
DESCRIPTION:The Prattville Area Chamber of Commerce will host a non-partisan Autauga County Board of Education Candidate Forum at the Doster Community Center on May 5\, 2022. This facility is located at 424 South Northington Street in Prattville.\n\n \n\nThe event will begin at 5:00 P.M. with a meet and greet. The candidate forum will begin promptly at 6:00 P.M. The entire community is invited to attend!\n\n \n\nThe mission of the Prattville Area Chamber of Commerce is to strengthen the business environment and our community.\n\n \n\nFor more information\, please contact Marketing and Communications Director Allison Powell at apowell@prattvillechamber.com or call 334.365.7392.
X-ALT-DESC;FMTTYPE=text/html:<div style="color: rgb(70\, 70\, 70)\; font-family: Arial\, Verdana\, Helvetica\, sans-serif\; font-size: 14px\; white-space: pre-wrap\;"><span style="font-size:14px\;"><span style="color: rgb(11\, 11\, 11)\; font-weight: bold\;">The Prattville Area Chamber of Commerce will host a non-partisan Autauga County Board of Education Candidate Forum at the Doster Community Center on May 5\, 2022. This facility is located at 424 South Northington Street in Prattville.</span></span></div>\n\n<div style="color: rgb(70\, 70\, 70)\; font-family: Arial\, Verdana\, Helvetica\, sans-serif\; font-size: 14px\; white-space: pre-wrap\;">&nbsp\;</div>\n\n<div style="color: rgb(70\, 70\, 70)\; font-family: Arial\, Verdana\, Helvetica\, sans-serif\; font-size: 14px\; white-space: pre-wrap\;"><span style="font-size:14px\;"><span style="color: rgb(11\, 11\, 11)\;">The event will begin at 5:00 P.M. with a meet and greet. The candidate forum will begin promptly at 6:00 P.M. The entire community is invited to attend!</span></span></div>\n\n<div style="color: rgb(70\, 70\, 70)\; font-family: Arial\, Verdana\, Helvetica\, sans-serif\; font-size: 14px\; white-space: pre-wrap\;">&nbsp\;</div>\n\n<div style="color: rgb(70\, 70\, 70)\; font-family: Arial\, Verdana\, Helvetica\, sans-serif\; font-size: 14px\; white-space: pre-wrap\;"><span style="font-size:14px\;"><span style="color: rgb(11\, 11\, 11)\;">The mission of the Prattville Area Chamber of Commerce is to strengthen the business environment and our community.</span></span></div>\n\n<div style="color: rgb(70\, 70\, 70)\; font-family: Arial\, Verdana\, Helvetica\, sans-serif\; font-size: 14px\; white-space: pre-wrap\;">&nbsp\;</div>\n\n<div style="color: rgb(70\, 70\, 70)\; font-family: Arial\, Verdana\, Helvetica\, sans-serif\; font-size: 14px\; white-space: pre-wrap\;"><span style="font-size:14px\;"><span style="color: rgb(11\, 11\, 11)\;">For more information\, please contact Marketing and Communications Director Allison Powell at apowell@prattvillechamber.com or call<tcxspan tcxhref="3343657392" title="Call  334.365.7392. via 3CX"> 334.365.7392.</tcxspan></span></span></div>\n
LOCATION:Doster Community Center 424 South Northington Street\, Prattville\, AL 36067
UID:e.1954.1965
SEQUENCE:3
DTSTAMP:20260424T142101Z
URL:https://online.prattvillechamber.com/events/details/autauga-county-board-of-education-candidate-forum-1965
END:VEVENT

END:VCALENDAR
