BEGIN:VCALENDAR
VERSION:2.0
PRODID:-//ChamberMaster//Event Calendar 2.0//EN
METHOD:PUBLISH
X-PUBLISHED-TTL:P3D
REFRESH-INTERVAL:P3D
CALSCALE:GREGORIAN
BEGIN:VEVENT
DTSTART:20221027T230000Z
DTEND:20221028T010000Z
X-MICROSOFT-CDO-ALLDAYEVENT:FALSE
SUMMARY:Artists on Main
DESCRIPTION:Fall is here\, which means let's have fun with our friends and families! The Prattville Area Chamber of Commerce is excited to host the next Artists on Main.\n\n\n\nThe event has been rescheduled to Thursday\, October 27 from 6:00-8:00 P.M. due to inclement weather.\n\n\n\nThis special event is looking for visual artists to create works of art live down Main Street in Historic Downtown Prattville! We also welcome musicians\, sculptors\, weavers\, and any other artists who want to showcase their talent to our community.\n\nArtists on Main will take place in conjunction with the Parade of Pumpkins\, so make sure you come out with you and your family to enjoy this FREE festivity. We encourage you to check out the local restaurants and shops to make it a fun night!\n\nTo be considered for inclusion as an artist\, please submit the artist application. Click here to learn more about the application.  For more information about Artists on Main\, contact the Prattville Area Chamber of Commerce team.
X-ALT-DESC;FMTTYPE=text/html:<div class="kvgmc6g5 cxmmr5t8 oygrvhab hcukyx3x c1et5uql ii04i59q" color:="" font-size:="" segoe="" style="overflow-wrap: break-word\; margin: 0px\; white-space: pre-wrap\; font-family: " ui="">\n<div dir="auto" style="font-family: inherit\;"><span style="font-size:16px\;"><strong>Fall is here\, which means let&#39\;s have fun with our friends and families! The Prattville Area Chamber of Commerce is excited to host the next Artists on Main.<br />\n<br />\n<span style="color:#FF0000\;">The event has been rescheduled to Thursday\, October 27 from 6:00-8:00 P.M. due to inclement weather.</span></strong><br />\n<br />\nThis special event is looking for visual artists to create works of art live down Main Street in Historic Downtown Prattville! We also welcome musicians\, sculptors\, weavers\, and any other artists who want to showcase their talent to our community.<br />\nArtists on Main will take place in conjunction with the Parade of Pumpkins\, so make sure you come out with you and your family to enjoy this FREE festivity. We encourage you to check out the local restaurants and shops to make it a fun night!<br />\nTo be considered for inclusion as an artist\, please submit the artist application. <u><a href="https://chambermaster.blob.core.windows.net/userfiles/UserFiles/chambers/1954/File/Artists_on_Main/October25ArtistApplication.pdf"><span style="color:#FF0000\;"><strong>Click here to learn more about the application.</strong></span></a><a href="https://chambermaster.blob.core.windows.net/userfiles/UserFiles/chambers/1954/File/Artists_on_Main/October25ArtistApplication.pdf"> </a></u> For more information about Artists on Main\, contact the Prattville Area Chamber of Commerce team.</span></div>\n</div>\n
LOCATION:Main Street Historic Downtown Prattville
UID:e.1954.2013
SEQUENCE:3
DTSTAMP:20260424T062612Z
URL:https://online.prattvillechamber.com/events/details/artists-on-main-2013
END:VEVENT

END:VCALENDAR
