BEGIN:VCALENDAR
VERSION:2.0
PRODID:-//ChamberMaster//Event Calendar 2.0//EN
METHOD:PUBLISH
X-PUBLISHED-TTL:P3D
REFRESH-INTERVAL:P3D
CALSCALE:GREGORIAN
BEGIN:VEVENT
DTSTART:20211026T230000Z
DTEND:20211027T010000Z
X-MICROSOFT-CDO-ALLDAYEVENT:FALSE
SUMMARY:Artists On Main
DESCRIPTION:THE DEADLINE TO PARTICIPATE AS AN ARTIST HAS BEEN EXTENDED TO FRIDAY\, OCT. 22\, 2021.\n\n\n\nThe Prattville Area Chamber of Commerce is partnering with the City of Prattville for Artists on Main\, scheduled for October 26 from 6-8 P.M.\nThis special event is looking for visual artists to create works of art using pumpkins as their canvas (not required). We also welcome musicians\, sculptures\, weavers\, and any other artists who want to showcase their talent to our community!\n\n\n\nThis Artists on Main will be in conjunction with the City of Prattville Parade of Pumpkins\, so make sure you come out with your family to enjoy this FREE festivity. We encourage you to check out the local restaurants and shops to make it a fun night!\n\n\n\nTo be considered for inclusion as an artist\, please submit a form to apowell@prattvillchamber.com. \nCLICK HERE TO PARTICIPATE IN THE ARTISTS ON MAIN
X-ALT-DESC;FMTTYPE=text/html:<h2><span style="font-size: 13px\;"><span style="color:#B22222\;"><u><strong>THE DEADLINE TO PARTICIPATE AS AN ARTIST HAS BEEN EXTENDED TO FRIDAY\, OCT. 22\, 2021.</strong></u></span><br />\n<br />\nThe Prattville Area Chamber of Commerce is partnering with the City of Prattville for Artists on Main\, scheduled for October 26 from 6-8 P.M.</span></h2>\nThis special event is looking for visual artists to create works of art using pumpkins as their canvas (not required). We also welcome musicians\, sculptures\, weavers\, and any other artists who want to showcase their talent to our community!<br />\n<br />\nThis Artists on Main will be in conjunction with the City of Prattville Parade of Pumpkins\, so make sure you come out with your family to enjoy this FREE festivity. We encourage you to check out the local restaurants and shops to make it a fun night!<br />\n<br />\nTo be considered for inclusion as an artist\, please submit a form to apowell@prattvillchamber.com.&nbsp\;\n<p><a href="https://chambermaster.blob.core.windows.net/userfiles/UserFiles/chambers/1954/File/ArtistsOnMain-October.pdf" style="color: rgb(7\, 130\, 193)\; font-family: sans-serif\, Arial\, Verdana\, &quot\;Trebuchet MS&quot\;\; font-size: 16px\; background-color: rgb(255\, 255\, 255)\;"><span style="color:#000000\;"><u><strong>CLICK HERE</strong></u></span></a><span style="color: rgb(51\, 51\, 51)\; font-family: sans-serif\, Arial\, Verdana\, &quot\;Trebuchet MS&quot\;\; font-size: 16px\; background-color: rgb(255\, 255\, 255)\;">&nbsp\;</span><strong><span style="font-family: sans-serif\, Arial\, Verdana\, &quot\;Trebuchet MS&quot\;\; font-size: 16px\; background-color: rgb(255\, 255\, 255)\;"><font color="#ff6600">TO PARTICIPATE IN THE ARTISTS ON MAIN</font></span></strong></p>\n
LOCATION:Historic Downtown Prattville
UID:e.1954.1931
SEQUENCE:3
DTSTAMP:20260421T004550Z
URL:https://online.prattvillechamber.com/events/details/artists-on-main-1931
END:VEVENT

END:VCALENDAR
