BEGIN:VCALENDAR
VERSION:2.0
PRODID:-//ChamberMaster//Event Calendar 2.0//EN
METHOD:PUBLISH
X-PUBLISHED-TTL:P3D
REFRESH-INTERVAL:P3D
CALSCALE:GREGORIAN
BEGIN:VEVENT
DTSTART:20201117T160000Z
DTEND:20201117T163000Z
X-MICROSOFT-CDO-ALLDAYEVENT:FALSE
SUMMARY:Alabama Department of Revenue: Business Personal Property Tax
DESCRIPTION:MONTGOMERY\, Nov. 2\, 2020   State tax obligations for business owners   business licenses\, sales tax\, property tax\, withholding\, etc.   are a lot to be responsible for. To help Alabama business owners better understand and master these requirements\, the Alabama Department of Revenue (ADOR) invites business owners to participate in one of ADOR's free Business Essentials for State Taxpayers (B.E.S.T.) webinars.\n\nB.E.S.T. webinars help new business owners navigate through unfamiliar tax complexities while updating current business owners on tax law changes. Each webinar\, conducted by ADOR specialists\, offers a brief but comprehensive overview of a specific business tax topic\, covers the business owner's tax obligations\, and highlights the necessary forms and other requirements regarding that tax topic.\n\nThe webinars being offered in November 17th: \n\n\n	Business Personal Property Tax: Nov. 17\, 10   10:30 a.m. CST\n\n\nThere is no charge to attend a B.E.S.T. webinar\, but reservations are required to obtain a meeting link. To sign up for either or both of these webinars\, send an email to ador.training@revenue.alabama.gov and provide the name and email address for each individual attending and the name of the webinar. We will then email a meeting link for the requested webinar to each individual listed.\n\nFor more information on B.E.S.T. webinars and other B.E.S.T. resources\, visit our website at https://revenue.alabama.gov/taxpayer-advocacy/b-e-s-t-seminars/. The B.E.S.T. webinars are 30 minutes long plus additional time for questions and answers.\n\nClick here to download a PDF version of this release.
X-ALT-DESC;FMTTYPE=text/html:<p font-size:="" sans="" source="" style="box-sizing: border-box\; margin: 0px 0px 15px\; color: rgb(33\, 33\, 33)\; font-family: "><strong>MONTGOMERY\, Nov. 2\, 202</strong>0 &ndash\; State tax obligations for business owners &ndash\; business licenses\, sales tax\, property tax\, withholding\, etc. &ndash\; are a lot to be responsible for. To help Alabama business owners better understand and master these requirements\, the Alabama Department of Revenue (ADOR) invites business owners to participate in one of ADOR&rsquo\;s free Business Essentials for State Taxpayers (B.E.S.T.) webinars.</p>\n\n<p font-size:="" sans="" source="" style="box-sizing: border-box\; margin: 0px 0px 15px\; color: rgb(33\, 33\, 33)\; font-family: ">B.E.S.T. webinars help new business owners navigate through unfamiliar tax complexities while updating current business owners on tax law changes. Each webinar\, conducted by ADOR specialists\, offers a brief but comprehensive overview of a specific business tax topic\, covers the business owner&rsquo\;s tax obligations\, and highlights the necessary forms and other requirements regarding that tax topic.</p>\n\n<p font-size:="" sans="" source="" style="box-sizing: border-box\; margin: 0px 0px 15px\; color: rgb(33\, 33\, 33)\; font-family: ">The webinars being offered in November 17th:&nbsp\;</p>\n\n<ul>\n	<li font-size:="" sans="" source="" style="box-sizing: border-box\; margin: 0px 0px 15px\; color: rgb(33\, 33\, 33)\;"><strong style="box-sizing: border-box\;">Business Personal Property Tax:&nbsp\;Nov. 17\, 10 &ndash\; 10:30 a.m. CST</strong></li>\n</ul>\n\n<p font-size:="" sans="" source="" style="box-sizing: border-box\; margin: 0px 0px 15px\; color: rgb(33\, 33\, 33)\; font-family: ">There is no charge to attend a B.E.S.T. webinar\, but reservations are required to obtain a meeting link. To sign up for either or both of these webinars\, send an email to&nbsp\;<u><strong><a href="mailto:ador.training@revenue.alabama.gov" style="box-sizing: border-box\; background-color: transparent\; color: rgb(0\, 113\, 188)\; text-decoration-line: none\;">ador.training@revenue.alabama.gov</a></strong></u>&nbsp\;and provide the name and email address for each individual attending and the name of the webinar. We will then email a meeting link for the requested webinar to each individual listed.</p>\n\n<p font-size:="" sans="" source="" style="box-sizing: border-box\; margin: 0px 0px 15px\; color: rgb(33\, 33\, 33)\; font-family: ">For more information on B.E.S.T. webinars and other B.E.S.T. resources\, visit our website at&nbsp\;<u><strong><a href="https://revenue.alabama.gov/taxpayer-advocacy/b-e-s-t-seminars/" style="box-sizing: border-box\; background-color: transparent\; color: rgb(0\, 113\, 188)\; text-decoration-line: none\;">https://revenue.alabama.gov/taxpayer-advocacy/b-e-s-t-seminars/</a>. </strong></u>The B.E.S.T. webinars are 30 minutes long plus additional time for questions and answers.</p>\n\n<p font-size:="" sans="" source="" style="box-sizing: border-box\; margin: 0px 0px 15px\; color: rgb(33\, 33\, 33)\; font-family: ">Click&nbsp\;<u><strong><a href="https://revenue.alabama.gov/wp-content/uploads/2020/11/201102_REL_BESTwebinar.pdf" rel="noreferrer noopener" style="box-sizing: border-box\; background-color: transparent\; color: rgb(0\, 113\, 188)\; text-decoration-line: none\;" target="_blank">here</a>&nbsp\;</strong></u>to download a PDF version of this release.</p>\n
LOCATION:Virtual Webinar In The Comfort Of Your Home Or Office
UID:e.1954.1880
SEQUENCE:3
DTSTAMP:20260425T201117Z
URL:https://online.prattvillechamber.com/events/details/alabama-department-of-revenue-business-personal-property-tax-1880
END:VEVENT

END:VCALENDAR
