BEGIN:VCALENDAR
VERSION:2.0
PRODID:-//ChamberMaster//Event Calendar 2.0//EN
METHOD:PUBLISH
X-PUBLISHED-TTL:P3D
REFRESH-INTERVAL:P3D
CALSCALE:GREGORIAN
BEGIN:VEVENT
DTSTART:20251209T230000Z
DTEND:20251210T013000Z
X-MICROSOFT-CDO-ALLDAYEVENT:FALSE
SUMMARY:A Main Street Christmas 2025
DESCRIPTION:Mark your calendars for A Main Street Christmas\, scheduled for\n\nDecember 9\, 2024\, from 5:00-7:30 P.M.\n\nin Historic Downtown Prattville!\n\n \n\nAt the Prattville Chamber\, we "Love What's Local" and want to keep the cheer right here in our community! We are proud to partner with the City of Prattville for this annual holiday event\, which will feature an array of activities including ice skating\, carolers and more!\n\n \n\nDuring the event\, every receipt from a Downtown Merchant that is brought to the Prattville Chamber table will be an entry for a $250 cash door prize and a "Love What's Local Basket." The winner will be announced at 7:30 P.M. You do not have to be present to win.
X-ALT-DESC;FMTTYPE=text/html:<div style="clear:both\;">\n<div align="center" style="color: rgb(0\, 0\, 161)\; font-family: Arial\, Verdana\, Helvetica\, sans-serif\; font-size: 12px\; text-align: center\;"><span style="font-size:18px\;"><strong><span style="color:#FF0000\;"><span style="font-weight: bold\;">Mark your calendars&nbsp\;for A Main Street Christmas\, scheduled for<br />\nDecember 9\, 2024\, from 5:00-7:30 P.M.<br />\nin Historic Downtown Prattville!</span></span></strong></span></div>\n\n<div style="color: rgb(0\, 0\, 161)\; font-family: Arial\, Verdana\, Helvetica\, sans-serif\; font-size: 12px\;">&nbsp\;</div>\n\n<div style="color: rgb(0\, 0\, 161)\; font-family: Arial\, Verdana\, Helvetica\, sans-serif\; font-size: 12px\;"><span style="font-size: 14px\; color: rgb(5\, 5\, 6)\;">At the Prattville Chamber\, we &quot\;Love What&#39\;s Local&quot\; and want to keep the cheer right here in our community! We are proud to partner with the City of Prattville for this annual holiday event\, which will feature an array of activities including ice skating\, carolers and more!</span></div>\n\n<div style="color: rgb(0\, 0\, 161)\; font-family: Arial\, Verdana\, Helvetica\, sans-serif\; font-size: 12px\;">&nbsp\;</div>\n\n<div style="color: rgb(0\, 0\, 161)\; font-family: Arial\, Verdana\, Helvetica\, sans-serif\; font-size: 12px\;"><span style="font-size: 14px\; color: rgb(5\, 5\, 6)\;">During the event\, every receipt from a Downtown Merchant that is brought to the Prattville Chamber table will be an entry for a $250 cash door prize and a &quot\;Love What&#39\;s Local Basket.&quot\; The winner will be announced at 7:30 P.M. You do not have to be present to win.</span></div>\n</div>\n
LOCATION:Historic Downtown Prattville
UID:e.1954.2220
SEQUENCE:3
DTSTAMP:20260422T195350Z
URL:https://online.prattvillechamber.com/events/details/a-main-street-christmas-2025-2220
END:VEVENT

END:VCALENDAR
