BEGIN:VCALENDAR
VERSION:2.0
PRODID:-//ChamberMaster//Event Calendar 2.0//EN
METHOD:PUBLISH
X-PUBLISHED-TTL:P3D
REFRESH-INTERVAL:P3D
CALSCALE:GREGORIAN
BEGIN:VEVENT
DTSTART:20230926T230000Z
DTEND:20230927T010000Z
X-MICROSOFT-CDO-ALLDAYEVENT:FALSE
SUMMARY:50th Annual Chamber Membership Meeting
DESCRIPTION:Mark your calendars for September 26 from 6:00-8:00 P.M. for the Prattville Area Chamber of Commerce's 2023 Annual Meeting\, which is to be held at the Marriott Legends in Prattville. Join your fellow Chamber Members as we celebrate the successes of our 50th year\, our vision for the future\, and the honoring of our award recipients. 2023 is a special year because it is our 50th year serving Prattville and Autauga County. We hope to see you there!\n\n \nHighlight your business or organization by becoming a sponsor or donating to the silent auction. Click the links below to learn more:\n\n\n\nClick Here for Sponsorship Flyer\n\nClick Here for Silent Auction Flyer\n\n\n\nIndividual tickets are also available to purchase for only $50:\n\n\n\nClick Here to purchase your tickets. \n\n\n\nWe look forward to celebrating the successes of the year\, our vision for the future\, and the honoring of award recipients. Contact our team to learn more!\n\n\n\nMember login information is not available. If you are a member click the blue "register now" button and use the "Not a Member" link in the upper right side of the page to complete your online registration.
X-ALT-DESC;FMTTYPE=text/html:<span style="color:#1f3d7c\;"><span style="font-size:20px\;"><span style="font-weight: bold\;">Mark your calendars for September 26 from 6:00-8:00 P.M. for the Prattville Area Chamber of Commerce&#39\;s 2023 Annual Meeting\, which is to be held at the Marriott Legends in Prattville. Join your fellow Chamber Members as we celebrate the successes of our 50th year\, our vision for the future\, and the honoring of our award recipients. 2023 is a special year because it is our 50th year serving Prattville and Autauga County. <em>We hope to see you there!</em></span></span></span><br />\n&nbsp\;\n<p><span style="font-size:16px\;"><span style="font-family:arial\;"><u><strong><span style="color:#df1e36\;"><span style="font-size:18px\;">Highlight your business or organization by becoming a sponsor or donating to the silent auction. Click the links below to learn more:</span></span></strong></u><br />\n<br />\n<strong><a href="https://acrobat.adobe.com/link/review?uri=urn:aaid:scds:US:582e0ef6-da62-3d67-8656-0eb7a5a6aca4"><span style="color:#0000FF\;">Click Here</span></a><span style="color:#0000FF\;">&nbsp\;</span><span style="color:#000000\;">for Sponsorship Flyer</span><br />\n<a href="https://acrobat.adobe.com/link/review?uri=urn:aaid:scds:US:d0383067-f870-3590-89a9-8214784469d2"><span style="color:#0000FF\;">Click Here</span></a><span style="color:#000000\;">&nbsp\;for Silent Auction Flyer</span></strong><br />\n<br />\n<u><strong><span style="color:#df1e36\;"><span style="font-size:18px\;">Individual tickets are also available to purchase for only $50:</span></span></strong></u><br />\n<br />\n<strong><a href="https://prattvillechamber.chambermaster.com/eventregistration/register/2080"><span style="color:#0000FF\;">Click Here</span></a><span style="color:#0000FF\;"> </span><span style="color:#000000\;">to purchase your tickets.&nbsp\;</span></strong></span></span><br />\n<br />\n<span style="font-size:16px\;"><em><span style="color:#000000\;"><span style="font-family: Arial\, Verdana\, Helvetica\, sans-serif\; white-space: pre-wrap\;">We look forward to celebrating the successes of the year\, our vision for the future\, and the honoring of award recipients. Contact our team to learn more!</span></span></em></span><br />\n<br />\n<strong style="font-family: arial\; font-size: 16px\;"><span style="color:#000000\;"><span style="background-color:#FFFF00\;">Member login information is not available. If you are a member click the blue&nbsp\;&quot\;</span></span><a href="https://prattvillechamber.chambermaster.com/eventregistration/register/1979"><span style="color:#000000\;"><span style="background-color:#FFFF00\;">register now</span></span></a><span style="color:#000000\;"><span style="background-color:#FFFF00\;">&quot\;&nbsp\;button and use the &quot\;</span><u><span style="background-color:#FFFF00\;">Not a Member</span></u><span style="background-color:#FFFF00\;">&quot\; link in the upper right side of the page to complete your online registration.&nbsp\;</span></span></strong></p>\n
LOCATION:Marriott Legends at Capitol Hill 2500 Legends Circle Prattville\, AL 36066
UID:e.1954.2080
SEQUENCE:3
DTSTAMP:20260423T124426Z
URL:https://online.prattvillechamber.com/events/details/50th-annual-chamber-membership-meeting-2080
END:VEVENT

END:VCALENDAR
