BEGIN:VCALENDAR
VERSION:2.0
PRODID:-//ChamberMaster//Event Calendar 2.0//EN
METHOD:PUBLISH
X-PUBLISHED-TTL:P3D
REFRESH-INTERVAL:P3D
CALSCALE:GREGORIAN
BEGIN:VEVENT
DTSTART:20250917T163000Z
DTEND:20250917T180000Z
X-MICROSOFT-CDO-ALLDAYEVENT:FALSE
SUMMARY:2025 September Chamber Luncheon Sponsored by Prattville Baptist Hospital
DESCRIPTION:You're invited to join us at the Catfish House for the September Chamber Luncheon on September 17th at 11:30AM sponsored by Prattville Baptist Hospital. You do not want to miss out!\n\n\n\nGain a little knowledge while building your connections by joining the Prattville Area Chamber of Commerce and our members for their September Chamber Champion Luncheon sponsored by Prattville Baptist Hospital. The Chamber's Monthly Luncheons are a great opportunity to connect with other business leaders in the area and each month is educational and completely different. \n\nMake your reservation and join us for a Chamber Luncheon with your Prattville Chamber! This is a great networking opportunity. Bring your business cards!\n\n\n\nClick here to register.\n\n\n\nTicket sales end close of business on September 15.
X-ALT-DESC;FMTTYPE=text/html:<p><span style="font-size:16px\;"><span style="font-family:arial\;">You&rsquo\;re invited to join us at the Catfish House for the September Chamber Luncheon on September 17th at 11:30AM sponsored by Prattville Baptist Hospital. You do not want to miss out!<br />\n<br />\n<span data-offset-key="3pg81-4-0" style="white-space: pre-wrap\; background-color: rgb(255\, 255\, 255)\;"><span data-text="true">Gain a little knowledge while building your connections by joining the Prattville Area Chamber of Commerce and our members for their September Chamber Champion Luncheon sponsored by Prattville Baptist Hospital. The Chamber&#39\;s Monthly Luncheons are a great opportunity to connect with other business leaders in the area and each month is educational and completely different. </span></span></span></span></p>\n\n<p><span style="font-size:16px\;"><span style="font-family: arial\; white-space: pre-wrap\;">Make your reservation and join us for a Chamber Luncheon with your Prattville Chamber! </span><em style="font-family: arial\;"><span style="font-style: normal\;">This is a great networking opportunity.&nbsp\;Bring your business cards!</span></em></span><br />\n<br />\n<span style="font-family:arial\;"><span style="font-size: 16px\;"><u><strong><a href="https://prattvillechamber.chambermaster.com/eventregistration/register/2214">Click here to register</a></strong></u><a href="https://prattvillechamber.chambermaster.com/eventregistration/register/2214"><u><strong>.</strong></u></a><br />\n<br />\n<span style="color:#FF0000\;"><strong>Ticket sales end close of business on&nbsp\;September 15.</strong></span></span></span><br />\n&nbsp\;</p>\n
LOCATION:Catfish House 3011 Cobbs Ford Road Millbrook\, AL 36054
UID:e.1954.2214
SEQUENCE:3
DTSTAMP:20260420T120016Z
URL:https://online.prattvillechamber.com/events/details/2025-september-chamber-luncheon-sponsored-by-prattville-baptist-hospital-2214
END:VEVENT

END:VCALENDAR
