BEGIN:VCALENDAR
VERSION:2.0
PRODID:-//ChamberMaster//Event Calendar 2.0//EN
METHOD:PUBLISH
X-PUBLISHED-TTL:P3D
REFRESH-INTERVAL:P3D
CALSCALE:GREGORIAN
BEGIN:VEVENT
DTSTART:20250909T130000Z
DTEND:20250909T140000Z
X-MICROSOFT-CDO-ALLDAYEVENT:FALSE
SUMMARY:2025 September Chamber Breakfast Sponsored by Guardian Credit Union
DESCRIPTION:You're invited to join us for the September Chamber Breakfast sponsored by Guardian Credit Union!\n\n\n\nGain a little knowledge while building your connections by joining the Prattville Area Chamber of Commerce and our members for the Chamber Champion Breakfast sponsored by Guardian Credit Union. This event is a great opportunity to connect with other business leaders in the area and each month is educational and completely different. \n\nMake your reservation today and bring your business cards!\n\n\n\nClick here to register.\n\n\n\nTicket sales end close of business on September 4.
X-ALT-DESC;FMTTYPE=text/html:<p><span style="font-size: 16px\;"><span style="font-family: arial\;"><span style="font-size: 18px\;"><strong>You&#39\;re invited to join us for the September Chamber Breakfast&nbsp\;sponsored by Guardian Credit Union!</strong></span><br />\n<br />\n<span data-offset-key="3pg81-4-0" style="white-space: pre-wrap\;"><span data-text="true">Gain a little knowledge while building your connections by joining the Prattville Area Chamber of Commerce and our members for the Chamber Champion Breakfast sponsored by Guardian Credit Union. This event is a great opportunity to connect with other business leaders in the area and each month is educational and completely different. </span></span></span></span></p>\n\n<p><span style="font-size: 16px\;"><span style="font-family: arial\; white-space: pre-wrap\;">Make your reservation today and b</span><em style="font-family: arial\;"><span style="font-style: normal\;">ring your business cards!</span></em></span><br />\n<br />\n<span style="font-family: arial\;"><span style="font-size: 16px\;"><u><strong><a href="https://prattvillechamber.chambermaster.com/eventregistration/register/2213">Click here to register.</a></strong></u><br />\n<br />\n<span style="color: rgb(255\, 0\, 0)\;"><strong>Ticket sales end close of business on September 4.</strong></span></span></span></p>\n
LOCATION:Marriott Legends 2500 Legends Circle Prattville\, AL 36066
UID:e.1954.2213
SEQUENCE:3
DTSTAMP:20260420T115229Z
URL:https://online.prattvillechamber.com/events/details/2025-september-chamber-breakfast-sponsored-by-guardian-credit-union-2213
END:VEVENT

END:VCALENDAR
