BEGIN:VCALENDAR
VERSION:2.0
PRODID:-//ChamberMaster//Event Calendar 2.0//EN
METHOD:PUBLISH
X-PUBLISHED-TTL:P3D
REFRESH-INTERVAL:P3D
CALSCALE:GREGORIAN
BEGIN:VEVENT
DTSTART:20251217T173000Z
DTEND:20251217T190000Z
X-MICROSOFT-CDO-ALLDAYEVENT:FALSE
SUMMARY:2025 December Chamber Luncheon Sponsored by BWS Technologies
DESCRIPTION:You're invited to join us for the December Chamber Luncheon sponsored by BWS Technologies on December 17th from 11:30AM to 1:00PM at the Marriott in Prattville!\n\n\n\nGain a little knowledge while building your connections by joining the Prattville Area Chamber of Commerce and our members for the Chamber Champion Luncheon sponsored by BWS Technologies. The Chamber's Monthly Luncheons are a great opportunity to connect with other business leaders in the area and each month is educational and completely different.\n\nMake your reservation and join us for a Chamber Luncheon with your Prattville Chamber! This is a great networking opportunity. Bring your business cards!\n\n\n\nClick here to register for the December Monthly Luncheon\n\n\n\nTicket sales end on December 12th at noon.
X-ALT-DESC;FMTTYPE=text/html:<p><span style="font-size: 16px\;"><span style="font-family: arial\;"><span style="font-size: 18px\;"><strong>You&rsquo\;re invited to join us for the December Chamber Luncheon sponsored by BWS Technologies on December 17th from 11:30AM to 1:00PM at the Marriott in Prattville!</strong></span></span></span><br />\n<br />\n<span style="font-size: 16px\;"><span style="font-family: arial\;"><span data-offset-key="3pg81-4-0" style="white-space: pre-wrap\;"><span data-text="true">Gain a little knowledge while building your connections by joining the Prattville Area Chamber of Commerce and our members for the Chamber Champion Luncheon sponsored by BWS Technologies. The Chamber&#39\;s Monthly Luncheons are a great opportunity to connect with other business leaders in the area and each month is educational and completely different.</span></span></span></span></p>\n\n<p><span style="font-size: 16px\;"><span style="font-family: arial\; white-space: pre-wrap\;">Make your reservation and join us for a Chamber Luncheon with your Prattville Chamber! </span><em style="font-family: arial\;"><span style="font-style: normal\;">This is a great networking opportunity.&nbsp\;Bring your business cards!</span></em></span><br />\n<br />\n<span style="font-family: arial\;"><span style="font-size: 16px\;"><a href="https://prattvillechamber.chambermaster.com/eventregistration/register/2221"><u><strong>Click here to register for the December Monthly Luncheon</strong></u></a><br />\n<br />\n<span style="color: rgb(255\, 0\, 0)\;"><strong>Ticket sales end&nbsp\;on December 12th at noon.</strong></span></span></span></p>\n
LOCATION:Marriott Legends 2500 Legends Circle Prattville\, AL 36066
UID:e.1954.2221
SEQUENCE:3
DTSTAMP:20260422T200214Z
URL:https://online.prattvillechamber.com/events/details/2025-december-chamber-luncheon-sponsored-by-bws-technologies-2221
END:VEVENT

END:VCALENDAR
