BEGIN:VCALENDAR
VERSION:2.0
PRODID:-//ChamberMaster//Event Calendar 2.0//EN
METHOD:PUBLISH
X-PUBLISHED-TTL:P3D
REFRESH-INTERVAL:P3D
CALSCALE:GREGORIAN
BEGIN:VEVENT
DTSTART:20230609T163000Z
DTEND:20230609T180000Z
X-MICROSOFT-CDO-ALLDAYEVENT:FALSE
SUMMARY:2023 Women In Networking Professional Development Series
DESCRIPTION:The Greatest Show on Earth\n\nThe Prattville Area Chamber of Commerce is excited to be partnering with Troy University University Continuing Education and Outreach for the 2023 Women in Networking Series: The Greatest Show on Earth. The fourth series will be "The Human Cannonball" on June 9\, 2023\, from 11:30-1:00 P.M. Tickets are only $30\, so make sure you register today! You do not have to be a Chamber Member to participate. Click here to register for the luncheon.\n\n \nMember login information is not currently active. If you are a member click the blue "register now" button and use the "Not a Member" link in the upper right side of the page to complete your online registration.\n\n \n \n\n\n\nWhat you will learn!!\n\n\n\nCommunication plays a key factor in maximizing your ability to get you where you want to be in your professional career. Something as simple as communication has the power to create\, build or hinder relationships with employees\, co-workers and customers.  Join us for a discussion on:\n\n	The importance of effective communication in its four forms.\n	What your communication style is and how to use it to maximize effectiveness.\n	How identifying what others communication style is can help overcome barriers and reach solutions.\n\n\n\n\n\n\n\n \n\n\n\n\nWIN's mission is to empower and develop women through professional development luncheons\, networking\, mentoring and partnerships to promote opportunities for all women throughout the entire tri-county area.
X-ALT-DESC;FMTTYPE=text/html:<div _mce_style="font-family: " font-size:="" new="" style="box-sizing: content-box\; inset: auto\; clear: none\; content: normal\; direction: inherit\; empty-cells: show\; float: none\; font-variant-numeric: inherit\; font-variant-east-asian: inherit\; font-stretch: inherit\; line-height: inherit\; margin: 0px\; max-height: none\; max-width: none\; min-height: initial\; min-width: initial\; opacity: 1\; outline-offset: 0px\; overflow: visible\; padding: 0px\; position: static\; resize: none\; table-layout: auto\; text-overflow: clip\; vertical-align: baseline\; visibility: inherit\; word-break: inherit\; overflow-wrap: inherit\; z-index: auto\; background: none rgb(255\, 255\, 255)\; border: none\; border-collapse: separate\; border-radius: 0px\; height: auto\; width: auto\; box-shadow: none\;" times="">\n<div style="text-align: center\;">\n<div style="text-align: left\;"><span style="font-family: arial\, sans-serif\; font-size: 14px\; color: rgb(30\, 118\, 121)\;"><span style="font-size: 22px\; font-weight: bold\; font-family: Arial\, Verdana\, Helvetica\, sans-serif\; text-align: center\; white-space: pre-wrap\;">The Greatest Show on Earth</span></span><br />\n<span style="font-family: arial\, sans-serif\; font-size: 14px\;"><strong><span style="color:#000000\;"><span _mce_style="color: #000000\;" style="font-style: inherit\; font-variant: inherit\; font-stretch: inherit\; line-height: inherit\; font-family: inherit\; letter-spacing: inherit\; text-align: inherit\; text-indent: inherit\; text-transform: inherit\; white-space: inherit\; word-spacing: inherit\; box-sizing: content-box\; inset: auto\; clear: none\; content: normal\; direction: inherit\; display: inline\; empty-cells: show\; float: none\; margin: 0px\; max-height: none\; max-width: none\; min-height: initial\; min-width: initial\; opacity: 1\; outline-offset: 0px\; overflow: visible\; padding: 0px\; position: static\; resize: none\; table-layout: auto\; text-overflow: clip\; vertical-align: baseline\; visibility: inherit\; word-break: inherit\; overflow-wrap: inherit\; z-index: auto\; background-image: none\; background-position: initial\; background-size: initial\; background-repeat: initial\; background-attachment: initial\; background-origin: initial\; background-clip: initial\; border: none\; border-collapse: separate\; border-radius: 0px\; height: auto\; width: auto\; box-shadow: none\;"><span _mce_style="box-sizing: content-box\; bottom: auto\; clear: none\; color: inherit\; content: normal\; direction: inherit\; empty-cells: show\; font-style: inherit\; font-variant: inherit\; font-weight: inherit\; font-stretch: inherit\; font-size: 13.5pt\; font-family: inherit\; left: auto\; letter-spacing: inherit\; line-height: inherit\; margin: 0px\; max-height: none\; max-width: none\; min-height: initial\; min-width: initial\; opacity: 1\; outline-offset: 0px\; overflow: visible\; padding: 0px\; resize: none\; right: auto\; table-layout: auto\; text-align: inherit\; text-indent: inherit\; text-overflow: clip\; text-transform: inherit\; top: auto\; vertical-align: baseline\; visibility: inherit\; white-space: inherit\; word-break: inherit\; word-spacing: inherit\; overflow-wrap: inherit\; z-index: auto\; background: none\; border: none\; border-collapse: separate\; border-radius: 0px\; height: auto\; width: auto\; box-shadow: none\;" style="font-weight: inherit\; box-sizing: content-box\; inset: auto\; clear: none\; content: normal\; direction: inherit\; display: inline\; empty-cells: show\; float: none\; font-style: inherit\; font-variant: inherit\; font-stretch: inherit\; font-family: inherit\; letter-spacing: inherit\; line-height: inherit\; margin: 0px\; max-height: none\; max-width: none\; min-height: initial\; min-width: initial\; opacity: 1\; outline-offset: 0px\; overflow: visible\; padding: 0px\; position: static\; resize: none\; table-layout: auto\; text-align: inherit\; text-indent: inherit\; text-overflow: clip\; text-transform: inherit\; vertical-align: baseline\; visibility: inherit\; white-space: inherit\; word-break: inherit\; word-spacing: inherit\; overflow-wrap: inherit\; z-index: auto\; background-image: none\; background-position: initial\; background-size: initial\; background-repeat: initial\; background-attachment: initial\; background-origin: initial\; background-clip: initial\; border: none\; border-collapse: separate\; border-radius: 0px\; height: auto\; width: auto\; box-shadow: none\;">The Prattville Area Chamber of Commerce is excited to be partnering with Troy University University Continuing Education and Outreach for the 2023 Women in Networking Series: The Greatest Show on Earth.&nbsp\;</span></span></span></strong></span><span style="font-family: arial\, sans-serif\; font-size: 14px\; color: rgb(0\, 0\, 0)\;"><span style="font-family: Arial\, Verdana\, Helvetica\, sans-serif\; white-space: pre-wrap\; font-weight: bold\;">The fourth series will be </span><span style="font-family: Arial\, Verdana\, Helvetica\, sans-serif\; white-space: pre-wrap\; font-weight: bold\;">&quot\;The Human Cannonball&quot\;</span><span style="font-family: Arial\, Verdana\, Helvetica\, sans-serif\; white-space: pre-wrap\; font-weight: bold\;"> on June 9\, 2023\, from 11:30-1:00 P.M. Tickets are only $30\, so make sure you register today<span style="font-size:14px\;">! </span></span></span><em style="font-family: Arial\, Verdana\, Helvetica\, sans-serif\; font-size: 14px\; color: rgb(0\, 0\, 0)\; white-space: pre-wrap\;"><strong style="font-family: arial\, sans-serif\; color: rgb(0\, 38\, 100)\;"><span style="color:#000000\;"><span _mce_style="color: #000000\; font-size: 18px\;" style="font-family: inherit\; font-style: inherit\; font-variant: inherit\; font-weight: inherit\; letter-spacing: inherit\; text-align: inherit\; text-indent: inherit\; text-transform: inherit\; white-space: inherit\; word-spacing: inherit\; box-sizing: content-box\; inset: auto\; clear: none\; content: normal\; direction: inherit\; display: inline\; empty-cells: show\; float: none\; font-stretch: inherit\; line-height: inherit\; margin: 0px\; max-height: none\; max-width: none\; min-height: initial\; min-width: initial\; opacity: 1\; outline-offset: 0px\; overflow: visible\; padding: 0px\; position: static\; resize: none\; table-layout: auto\; text-overflow: clip\; vertical-align: baseline\; visibility: inherit\; word-break: inherit\; overflow-wrap: inherit\; z-index: auto\; background: none\; border: none\; border-collapse: separate\; border-radius: 0px\; height: auto\; width: auto\; box-shadow: none\;">You do not have to be a Chamber Member to participate.</span></span><a href="https://prattvillechamber.chambermaster.com/eventregistration/register/2073"><span style="color: rgb(255\, 0\, 0)\;"><span _mce_style="color: #000000\; font-size: 18px\;" style="font-family: inherit\; font-style: inherit\; font-variant: inherit\; font-weight: inherit\; letter-spacing: inherit\; text-align: inherit\; text-indent: inherit\; text-transform: inherit\; white-space: inherit\; word-spacing: inherit\; box-sizing: content-box\; inset: auto\; clear: none\; content: normal\; direction: inherit\; display: inline\; empty-cells: show\; float: none\; font-stretch: inherit\; line-height: inherit\; margin: 0px\; max-height: none\; max-width: none\; min-height: initial\; min-width: initial\; opacity: 1\; outline-offset: 0px\; overflow: visible\; padding: 0px\; position: static\; resize: none\; table-layout: auto\; text-overflow: clip\; vertical-align: baseline\; visibility: inherit\; word-break: inherit\; overflow-wrap: inherit\; z-index: auto\; background: none\; border: none\; border-collapse: separate\; border-radius: 0px\; height: auto\; width: auto\; box-shadow: none\;"><span style="font-size:14px\;">&nbsp\;</span></span></span></a></strong></em><a href="https://prattvillechamber.chambermaster.com/eventregistration/register/2073"><span style="font-size:14px\;"><u style="white-space: pre-wrap\; box-sizing: border-box\; border: 0px solid rgb(51\, 51\, 51)\; -webkit-font-smoothing: antialiased\; -webkit-tap-highlight-color: transparent\; color: rgb(68\, 68\, 68)\; font-family: arial\, sans-serif\; font-size: 16px\;"><span style="box-sizing: border-box\; border: 0px solid rgb(51\, 51\, 51)\; font-weight: bolder\; -webkit-font-smoothing: antialiased\; -webkit-tap-highlight-color: transparent\;"><span style="box-sizing: border-box\; border: 0px solid rgb(51\, 51\, 51)\; -webkit-font-smoothing: antialiased\; -webkit-tap-highlight-color: transparent\; color: rgb(0\, 0\, 255)\;" tabindex="0">Click here to register for the luncheon</span></span></u></span></a><span style="font-family: arial\, sans-serif\; font-size: 14px\;"><u style="white-space: pre-wrap\; box-sizing: border-box\; border: 0px solid rgb(51\, 51\, 51)\; -webkit-font-smoothing: antialiased\; -webkit-tap-highlight-color: transparent\; color: rgb(68\, 68\, 68)\; font-family: arial\, sans-serif\; font-size: 16px\;"><span style="box-sizing: border-box\; border: 0px solid rgb(51\, 51\, 51)\; font-weight: bolder\; -webkit-font-smoothing: antialiased\; -webkit-tap-highlight-color: transparent\;"><a href="https://online.prattvillechamber.com/events/details/2023-women-in-networking-professional-development-series-2073"><span style="box-sizing: border-box\; border: 0px solid rgb(51\, 51\, 51)\; -webkit-font-smoothing: antialiased\; -webkit-tap-highlight-color: transparent\; color: rgb(0\, 0\, 255)\;" tabindex="0">.</span></a></span></u></span><br />\n&nbsp\;\n<div style="font-family: Arial\, Verdana\, Helvetica\, sans-serif\; font-size: 14px\; white-space: pre-wrap\;"><span style="box-sizing: border-box\; border: 0px solid rgb(51\, 51\, 51)\; -webkit-font-smoothing: antialiased\; -webkit-tap-highlight-color: transparent\; font-family: arial\, sans-serif\; font-size: 16px\; color: rgb(255\, 0\, 0)\;" tabindex="0"><span style="box-sizing: border-box\; border: 0px solid rgb(51\, 51\, 51)\; font-weight: bolder\; -webkit-font-smoothing: antialiased\; -webkit-tap-highlight-color: transparent\;">Member login information is not currently active. If you are a member click the blue&nbsp\;</span></span><span style="box-sizing: border-box\; border: 0px solid rgb(51\, 51\, 51)\; font-weight: bolder\; -webkit-font-smoothing: antialiased\; -webkit-tap-highlight-color: transparent\; color: rgb(68\, 68\, 68)\; font-family: arial\, sans-serif\; font-size: 16px\;"><a href="https://prattvillechamber.chambermaster.com/eventregistration/register/2073" style="color: rgb(3\, 47\, 135)\; box-sizing: border-box\; border: 0px solid rgb(51\, 51\, 51)\; vertical-align: initial\; -webkit-font-smoothing: antialiased\; outline: 0px\; -webkit-tap-highlight-color: transparent\; text-decoration-line: none\; overflow-wrap: break-word\;" tabindex="0"><span style="box-sizing: border-box\; border: 0px solid rgb(51\, 51\, 51)\; -webkit-font-smoothing: antialiased\; -webkit-tap-highlight-color: transparent\; color: rgb(0\, 0\, 255)\;" tabindex="0">&quot\;register now&quot\;</span></a></span><span style="box-sizing: border-box\; border: 0px solid rgb(51\, 51\, 51)\; -webkit-font-smoothing: antialiased\; -webkit-tap-highlight-color: transparent\; font-family: arial\, sans-serif\; font-size: 16px\; color: rgb(255\, 0\, 0)\;" tabindex="0"><span style="box-sizing: border-box\; border: 0px solid rgb(51\, 51\, 51)\; font-weight: bolder\; -webkit-font-smoothing: antialiased\; -webkit-tap-highlight-color: transparent\;">&nbsp\;button and use the &quot\;Not a Member&quot\; link in the upper right side of the page to complete your online registration.</span></span></div>\n\n<div style="font-family: Arial\, Verdana\, Helvetica\, sans-serif\; font-size: 14px\; white-space: pre-wrap\;">&nbsp\;</div>\n&nbsp\;\n\n<div style=""><br />\n<font color="#000000" face="Arial\, Verdana\, Helvetica\, sans-serif"><span style="font-size: 14px\; white-space: pre-wrap\;"><strong><span style="font-size:16px\;">What you will learn!!</span></strong></span></font><br />\n<br />\nCommunication plays a key factor in maximizing your ability to get you where you want to be in your professional career. Something as simple as communication has the power to create\, build or hinder relationships with employees\, co-workers and customers.&nbsp\; Join us for a discussion on:\n<ol>\n	<li style="margin-left:0in\;"><span style="font-size:11.0pt\;">The importance of effective communication in its four forms.</span></li>\n	<li style="margin-left:0in\;"><span style="font-size:11.0pt\;">What your communication style is and how to use it to maximize effectiveness.</span></li>\n	<li style="margin-left:0in\;"><span style="font-size:11.0pt\;">How identifying what others communication style is can help overcome barriers and reach solutions.</span></li>\n</ol>\n</div>\n\n<div style="font-family: Arial\, Verdana\, Helvetica\, sans-serif\; font-size: 14px\; color: rgb(0\, 0\, 0)\; white-space: pre-wrap\; text-align: center\;"><br />\n<br />\n&nbsp\;</div>\n</div>\n</div>\n</div>\n\n<div _mce_style="font-family: " font-size:="" new="" style="box-sizing: content-box\; bottom: auto\; clear: none\; color: rgb(0\, 38\, 100)\; content: normal\; direction: inherit\; empty-cells: show\; float: none\; font-variant-numeric: inherit\; font-variant-east-asian: inherit\; font-stretch: inherit\; font-size: 14px\; font-family: arial\, sans-serif\; left: auto\; line-height: inherit\; margin: 0px\; max-height: none\; max-width: none\; min-height: initial\; min-width: initial\; opacity: 1\; outline-offset: 0px\; overflow: visible\; padding: 0px\; position: static\; resize: none\; right: auto\; table-layout: auto\; text-overflow: clip\; top: auto\; vertical-align: baseline\; visibility: inherit\; word-break: inherit\; overflow-wrap: inherit\; z-index: auto\; background: none rgb(255\, 255\, 255)\; border: none\; border-collapse: separate\; border-radius: 0px\; height: auto\; width: auto\; box-shadow: none\;" times=""><span style="color: rgb(7\, 7\, 7)\; font-family: Arial\, Verdana\, Helvetica\, sans-serif\; font-size: 14px\; font-style: italic\; text-align: center\; white-space: pre-wrap\;">WIN&#39\;s mission is to empower and develop women through professional development luncheons\, networking\, mentoring and partnerships&nbsp\;to promote opportunities for all women throughout the entire tri-county area.</span></div>\n
LOCATION:Prattville Area Chamber of Commerce 131 North Court Street\, Prattville\, AL 36067
UID:e.1954.2073
SEQUENCE:3
DTSTAMP:20260423T181925Z
URL:https://online.prattvillechamber.com/events/details/2023-women-in-networking-professional-development-series-2073
END:VEVENT

END:VCALENDAR
