BEGIN:VCALENDAR
VERSION:2.0
PRODID:-//ChamberMaster//Event Calendar 2.0//EN
METHOD:PUBLISH
X-PUBLISHED-TTL:P3D
REFRESH-INTERVAL:P3D
CALSCALE:GREGORIAN
BEGIN:VEVENT
DTSTART:20230303T173000Z
DTEND:20230303T190000Z
X-MICROSOFT-CDO-ALLDAYEVENT:FALSE
SUMMARY:2023 Women In Networking Professional Development Series
DESCRIPTION:The Greatest Show on Earth\n\nThe Prattville Area Chamber of Commerce is excited to be partnering with Troy University University Continuing Education and Outreach for the 2023 Women in Networking Series: The Greatest Show on Earth. The third series will be "Juggling" on March 3\, 2023\, from 11:30-1:00 P.M. Tickets are only $30\, so make sure you register today! You do not have to be a Chamber Member to participate. Click here to register for the luncheon.\n\n \nMember login information is not currently active. If you are a member click the blue "register now" button and use the "Not a Member" link in the upper right side of the page to complete your online registration.\n\n \n \n\n\n\nWhat you will learn!!\n\nJuggling multiple priorities are hard. Organizing those priorities are even harder. Sometimes you have to ask yourself\, is this a priority at all? In this session\, Ashley Jernigan will give you tips\, tricks and tools to help manage your time better and change those habits or activities that cause you to waste time.\n\n \n\nTime management is more than just managing time\; it is managing ourselves in relation to time.\n\nIt is setting priorities and taking charge of our situation and energy utilization within a given time frame.\n\nIt means changing those habits or activities that cause us to waste time.\n\nIt is being willing to experiment with different methods and ideas to enable you to find the best way to make maximum use of time.\n\n \n\nWhat you will get out of this class:\n\n\n	You will identify your top 5 priorities\n	Your top five-time wasters (because sometimes we don't want to admit)\n	Top 5-time management tips you will follow effective immediately to ensure you have the most productive day! \n\n\n\n\n\nSave the date for the upcoming luncheons in this WIN series:\n\n \n\nJune 9\, 2023 | The Human Cannonball (Communication)\n\n \n\n\n\n\nWIN's mission is to empower and develop women through professional development luncheons\, networking\, mentoring and partnerships to promote opportunities for all women throughout the entire tri-county area.
X-ALT-DESC;FMTTYPE=text/html:<div _mce_style="font-family: " font-size:="" new="" style="box-sizing: content-box\; inset: auto\; clear: none\; content: normal\; direction: inherit\; empty-cells: show\; float: none\; font-variant-numeric: inherit\; font-variant-east-asian: inherit\; font-stretch: inherit\; line-height: inherit\; margin: 0px\; max-height: none\; max-width: none\; min-height: initial\; min-width: initial\; opacity: 1\; outline-offset: 0px\; overflow: visible\; padding: 0px\; position: static\; resize: none\; table-layout: auto\; text-overflow: clip\; vertical-align: baseline\; visibility: inherit\; word-break: inherit\; overflow-wrap: inherit\; z-index: auto\; background: none rgb(255\, 255\, 255)\; border: none\; border-collapse: separate\; border-radius: 0px\; height: auto\; width: auto\; box-shadow: none\;" times="">\n<div style="text-align: center\;">\n<div style="text-align: left\;"><span style="font-family: arial\, sans-serif\; font-size: 14px\; color: rgb(30\, 118\, 121)\;"><span style="font-size: 22px\; font-weight: bold\; font-family: Arial\, Verdana\, Helvetica\, sans-serif\; text-align: center\; white-space: pre-wrap\;">The Greatest Show on Earth</span></span><br />\n<span style="font-family: arial\, sans-serif\; font-size: 14px\;"><strong><span style="color:#000000\;"><span _mce_style="color: #000000\;" style="font-style: inherit\; font-variant: inherit\; font-stretch: inherit\; line-height: inherit\; font-family: inherit\; letter-spacing: inherit\; text-align: inherit\; text-indent: inherit\; text-transform: inherit\; white-space: inherit\; word-spacing: inherit\; box-sizing: content-box\; inset: auto\; clear: none\; content: normal\; direction: inherit\; display: inline\; empty-cells: show\; float: none\; margin: 0px\; max-height: none\; max-width: none\; min-height: initial\; min-width: initial\; opacity: 1\; outline-offset: 0px\; overflow: visible\; padding: 0px\; position: static\; resize: none\; table-layout: auto\; text-overflow: clip\; vertical-align: baseline\; visibility: inherit\; word-break: inherit\; overflow-wrap: inherit\; z-index: auto\; background-image: none\; background-position: initial\; background-size: initial\; background-repeat: initial\; background-attachment: initial\; background-origin: initial\; background-clip: initial\; border: none\; border-collapse: separate\; border-radius: 0px\; height: auto\; width: auto\; box-shadow: none\;"><span _mce_style="box-sizing: content-box\; bottom: auto\; clear: none\; color: inherit\; content: normal\; direction: inherit\; empty-cells: show\; font-style: inherit\; font-variant: inherit\; font-weight: inherit\; font-stretch: inherit\; font-size: 13.5pt\; font-family: inherit\; left: auto\; letter-spacing: inherit\; line-height: inherit\; margin: 0px\; max-height: none\; max-width: none\; min-height: initial\; min-width: initial\; opacity: 1\; outline-offset: 0px\; overflow: visible\; padding: 0px\; resize: none\; right: auto\; table-layout: auto\; text-align: inherit\; text-indent: inherit\; text-overflow: clip\; text-transform: inherit\; top: auto\; vertical-align: baseline\; visibility: inherit\; white-space: inherit\; word-break: inherit\; word-spacing: inherit\; overflow-wrap: inherit\; z-index: auto\; background: none\; border: none\; border-collapse: separate\; border-radius: 0px\; height: auto\; width: auto\; box-shadow: none\;" style="font-weight: inherit\; box-sizing: content-box\; inset: auto\; clear: none\; content: normal\; direction: inherit\; display: inline\; empty-cells: show\; float: none\; font-style: inherit\; font-variant: inherit\; font-stretch: inherit\; font-family: inherit\; letter-spacing: inherit\; line-height: inherit\; margin: 0px\; max-height: none\; max-width: none\; min-height: initial\; min-width: initial\; opacity: 1\; outline-offset: 0px\; overflow: visible\; padding: 0px\; position: static\; resize: none\; table-layout: auto\; text-align: inherit\; text-indent: inherit\; text-overflow: clip\; text-transform: inherit\; vertical-align: baseline\; visibility: inherit\; white-space: inherit\; word-break: inherit\; word-spacing: inherit\; overflow-wrap: inherit\; z-index: auto\; background-image: none\; background-position: initial\; background-size: initial\; background-repeat: initial\; background-attachment: initial\; background-origin: initial\; background-clip: initial\; border: none\; border-collapse: separate\; border-radius: 0px\; height: auto\; width: auto\; box-shadow: none\;">The Prattville Area Chamber of Commerce is excited to be partnering with Troy University University Continuing Education and Outreach for the 2023 Women in Networking Series: The Greatest Show on Earth.&nbsp\;</span></span></span></strong></span><span style="font-family: arial\, sans-serif\; font-size: 14px\; color: rgb(0\, 0\, 0)\;"><span style="font-family: Arial\, Verdana\, Helvetica\, sans-serif\; white-space: pre-wrap\; font-weight: bold\;">The third series will be </span><span style="font-family: Arial\, Verdana\, Helvetica\, sans-serif\; white-space: pre-wrap\; font-weight: bold\;">&quot\;Juggling&quot\;</span><span style="font-family: Arial\, Verdana\, Helvetica\, sans-serif\; white-space: pre-wrap\; font-weight: bold\;"> on March 3\, 2023\, from 11:30-1:00 P.M. Tickets are only $30\, so make sure you register today<span style="font-size:14px\;">! </span></span></span><em style="font-family: Arial\, Verdana\, Helvetica\, sans-serif\; font-size: 14px\; color: rgb(0\, 0\, 0)\; white-space: pre-wrap\;"><strong style="font-family: arial\, sans-serif\; color: rgb(0\, 38\, 100)\;"><span style="color:#000000\;"><span _mce_style="color: #000000\; font-size: 18px\;" style="font-family: inherit\; font-style: inherit\; font-variant: inherit\; font-weight: inherit\; letter-spacing: inherit\; text-align: inherit\; text-indent: inherit\; text-transform: inherit\; white-space: inherit\; word-spacing: inherit\; box-sizing: content-box\; inset: auto\; clear: none\; content: normal\; direction: inherit\; display: inline\; empty-cells: show\; float: none\; font-stretch: inherit\; line-height: inherit\; margin: 0px\; max-height: none\; max-width: none\; min-height: initial\; min-width: initial\; opacity: 1\; outline-offset: 0px\; overflow: visible\; padding: 0px\; position: static\; resize: none\; table-layout: auto\; text-overflow: clip\; vertical-align: baseline\; visibility: inherit\; word-break: inherit\; overflow-wrap: inherit\; z-index: auto\; background: none\; border: none\; border-collapse: separate\; border-radius: 0px\; height: auto\; width: auto\; box-shadow: none\;">You do not have to be a Chamber Member to participate.</span></span><span style="color: rgb(255\, 0\, 0)\;"><span _mce_style="color: #000000\; font-size: 18px\;" style="font-family: inherit\; font-style: inherit\; font-variant: inherit\; font-weight: inherit\; letter-spacing: inherit\; text-align: inherit\; text-indent: inherit\; text-transform: inherit\; white-space: inherit\; word-spacing: inherit\; box-sizing: content-box\; inset: auto\; clear: none\; content: normal\; direction: inherit\; display: inline\; empty-cells: show\; float: none\; font-stretch: inherit\; line-height: inherit\; margin: 0px\; max-height: none\; max-width: none\; min-height: initial\; min-width: initial\; opacity: 1\; outline-offset: 0px\; overflow: visible\; padding: 0px\; position: static\; resize: none\; table-layout: auto\; text-overflow: clip\; vertical-align: baseline\; visibility: inherit\; word-break: inherit\; overflow-wrap: inherit\; z-index: auto\; background: none\; border: none\; border-collapse: separate\; border-radius: 0px\; height: auto\; width: auto\; box-shadow: none\;"><span style="font-size:14px\;">&nbsp\;</span></span></span></strong></em><a href="https://prattvillechamber.chambermaster.com/eventregistration/register/2046"><span style="font-size:14px\;"><u style="white-space: pre-wrap\; box-sizing: border-box\; border: 0px solid rgb(51\, 51\, 51)\; -webkit-font-smoothing: antialiased\; -webkit-tap-highlight-color: transparent\; color: rgb(68\, 68\, 68)\; font-family: arial\, sans-serif\; font-size: 16px\;"><span style="box-sizing: border-box\; border: 0px solid rgb(51\, 51\, 51)\; font-weight: bolder\; -webkit-font-smoothing: antialiased\; -webkit-tap-highlight-color: transparent\;"><span style="box-sizing: border-box\; border: 0px solid rgb(51\, 51\, 51)\; -webkit-font-smoothing: antialiased\; -webkit-tap-highlight-color: transparent\; color: rgb(0\, 0\, 255)\;" tabindex="0">Click here to register for the luncheon</span></span></u></span></a><span style="font-family: arial\, sans-serif\; font-size: 14px\;"><u style="white-space: pre-wrap\; box-sizing: border-box\; border: 0px solid rgb(51\, 51\, 51)\; -webkit-font-smoothing: antialiased\; -webkit-tap-highlight-color: transparent\; color: rgb(68\, 68\, 68)\; font-family: arial\, sans-serif\; font-size: 16px\;"><span style="box-sizing: border-box\; border: 0px solid rgb(51\, 51\, 51)\; font-weight: bolder\; -webkit-font-smoothing: antialiased\; -webkit-tap-highlight-color: transparent\;"><a href="https://prattvillechamber.chambermaster.com/eventregistration/register/2046"><span style="box-sizing: border-box\; border: 0px solid rgb(51\, 51\, 51)\; -webkit-font-smoothing: antialiased\; -webkit-tap-highlight-color: transparent\; color: rgb(0\, 0\, 255)\;" tabindex="0">.</span></a></span></u></span><br />\n&nbsp\;\n<div style="font-family: Arial\, Verdana\, Helvetica\, sans-serif\; font-size: 14px\; white-space: pre-wrap\;"><span style="box-sizing: border-box\; border: 0px solid rgb(51\, 51\, 51)\; -webkit-font-smoothing: antialiased\; -webkit-tap-highlight-color: transparent\; font-family: arial\, sans-serif\; font-size: 16px\; color: rgb(255\, 0\, 0)\;" tabindex="0"><span style="box-sizing: border-box\; border: 0px solid rgb(51\, 51\, 51)\; font-weight: bolder\; -webkit-font-smoothing: antialiased\; -webkit-tap-highlight-color: transparent\;">Member login information is not currently active. If you are a member click the blue&nbsp\;</span></span><span style="box-sizing: border-box\; border: 0px solid rgb(51\, 51\, 51)\; font-weight: bolder\; -webkit-font-smoothing: antialiased\; -webkit-tap-highlight-color: transparent\; color: rgb(68\, 68\, 68)\; font-family: arial\, sans-serif\; font-size: 16px\;"><a href="https://prattvillechamber.chambermaster.com/eventregistration/register/1983" style="color: rgb(3\, 47\, 135)\; box-sizing: border-box\; border: 0px solid rgb(51\, 51\, 51)\; vertical-align: initial\; -webkit-font-smoothing: antialiased\; outline: 0px\; -webkit-tap-highlight-color: transparent\; text-decoration-line: none\; overflow-wrap: break-word\;" tabindex="0"><span style="box-sizing: border-box\; border: 0px solid rgb(51\, 51\, 51)\; -webkit-font-smoothing: antialiased\; -webkit-tap-highlight-color: transparent\; color: rgb(0\, 0\, 255)\;" tabindex="0">&quot\;register now&quot\;</span></a></span><span style="box-sizing: border-box\; border: 0px solid rgb(51\, 51\, 51)\; -webkit-font-smoothing: antialiased\; -webkit-tap-highlight-color: transparent\; font-family: arial\, sans-serif\; font-size: 16px\; color: rgb(255\, 0\, 0)\;" tabindex="0"><span style="box-sizing: border-box\; border: 0px solid rgb(51\, 51\, 51)\; font-weight: bolder\; -webkit-font-smoothing: antialiased\; -webkit-tap-highlight-color: transparent\;">&nbsp\;button and use the &quot\;Not a Member&quot\; link in the upper right side of the page to complete your online registration.</span></span></div>\n\n<div style="font-family: Arial\, Verdana\, Helvetica\, sans-serif\; font-size: 14px\; white-space: pre-wrap\;">&nbsp\;</div>\n&nbsp\;\n\n<div style=""><br />\n<font color="#000000" face="Arial\, Verdana\, Helvetica\, sans-serif"><span style="font-size: 14px\; white-space: pre-wrap\;"><strong><span style="font-size:16px\;">What you will learn!!</span></strong><br />\nJuggling multiple priorities are hard. Organizing those priorities are even harder. Sometimes you have to ask yourself\, is this a priority at all? In this session\, Ashley Jernigan will give you tips\, tricks and tools to help manage your time better and change those habits or activities that cause you to waste time.</span></font><br />\n<font color="#000000" face="Arial\, Verdana\, Helvetica\, sans-serif"><span style="font-size: 14px\; white-space: pre-wrap\;">&nbsp\;</span></font><br />\n<font color="#000000" face="Arial\, Verdana\, Helvetica\, sans-serif"><span style="font-size: 14px\; white-space: pre-wrap\;">Time management is more than just managing time\; it is managing ourselves in relation to time.</span></font><br />\n<font color="#000000" face="Arial\, Verdana\, Helvetica\, sans-serif"><span style="font-size: 14px\; white-space: pre-wrap\;">It is setting priorities and taking charge of our situation and energy utilization within a given time frame.</span></font><br />\n<font color="#000000" face="Arial\, Verdana\, Helvetica\, sans-serif"><span style="font-size: 14px\; white-space: pre-wrap\;">It means changing those habits or activities that cause us to waste time.</span></font><br />\n<font color="#000000" face="Arial\, Verdana\, Helvetica\, sans-serif"><span style="font-size: 14px\; white-space: pre-wrap\;">It is being willing to experiment with different methods and ideas to enable you to find the best way to make maximum use of time.</span></font><br />\n<font color="#000000" face="Arial\, Verdana\, Helvetica\, sans-serif"><span style="font-size: 14px\; white-space: pre-wrap\;">&nbsp\;</span></font><br />\n<font color="#000000" face="Arial\, Verdana\, Helvetica\, sans-serif"><span style="font-size: 14px\; white-space: pre-wrap\;">What you will get out of this class:</span></font>\n\n<ol style="">\n	<li style="color: rgb(0\, 0\, 0)\; font-family: Arial\, Verdana\, Helvetica\, sans-serif\; font-size: 14px\; white-space: pre-wrap\; margin-left: 0in\;"><span style="font-size:11.0pt\;">You will identify your top 5 priorities</span></li>\n	<li style="margin-left: 0in\;"><font color="#000000" face="Arial\, Verdana\, Helvetica\, sans-serif"><span style="font-size: 11pt\; white-space: pre-wrap\;">Your top </span><span style="font-size: 14.6667px\; white-space: pre-wrap\;">five-time</span><span style="font-size: 11pt\; white-space: pre-wrap\;"> wasters (because sometimes we don&rsquo\;t want to admit)</span></font></li>\n	<li style="margin-left: 0in\;"><font color="#000000" face="Arial\, Verdana\, Helvetica\, sans-serif"><span style="font-size: 11pt\; white-space: pre-wrap\;">Top </span><span style="font-size: 14.6667px\; white-space: pre-wrap\;">5-time</span><span style="font-size: 11pt\; white-space: pre-wrap\;"> management tips you will follow effective immediately to ensure you have the most productive day! </span></font></li>\n</ol>\n</div>\n\n<div style="font-family: Arial\, Verdana\, Helvetica\, sans-serif\; font-size: 14px\; color: rgb(0\, 0\, 0)\; white-space: pre-wrap\; text-align: center\;"><br />\n<span style="color:#1e7679\;"><span style="font-weight: bold\; font-size: 18px\; text-decoration-line: underline\;">Save the date for the upcoming luncheons in this WIN series:</span></span></div>\n\n<div style="font-family: Arial\, Verdana\, Helvetica\, sans-serif\; font-size: 14px\; color: rgb(0\, 0\, 0)\; white-space: pre-wrap\;">&nbsp\;</div>\n\n<div style="font-family: Arial\, Verdana\, Helvetica\, sans-serif\; font-size: 14px\; color: rgb(0\, 0\, 0)\; white-space: pre-wrap\; text-align: center\;"><span style="font-weight: bold\;">June 9\, 2023 | </span>The Human Cannonball (Communication)<br />\n&nbsp\;</div>\n</div>\n</div>\n</div>\n\n<div _mce_style="font-family: " font-size:="" new="" style="box-sizing: content-box\; bottom: auto\; clear: none\; color: rgb(0\, 38\, 100)\; content: normal\; direction: inherit\; empty-cells: show\; float: none\; font-variant-numeric: inherit\; font-variant-east-asian: inherit\; font-stretch: inherit\; font-size: 14px\; font-family: arial\, sans-serif\; left: auto\; line-height: inherit\; margin: 0px\; max-height: none\; max-width: none\; min-height: initial\; min-width: initial\; opacity: 1\; outline-offset: 0px\; overflow: visible\; padding: 0px\; position: static\; resize: none\; right: auto\; table-layout: auto\; text-overflow: clip\; top: auto\; vertical-align: baseline\; visibility: inherit\; word-break: inherit\; overflow-wrap: inherit\; z-index: auto\; background: none rgb(255\, 255\, 255)\; border: none\; border-collapse: separate\; border-radius: 0px\; height: auto\; width: auto\; box-shadow: none\;" times=""><span style="color: rgb(7\, 7\, 7)\; font-family: Arial\, Verdana\, Helvetica\, sans-serif\; font-size: 14px\; font-style: italic\; text-align: center\; white-space: pre-wrap\;">WIN&#39\;s mission is to empower and develop women through professional development luncheons\, networking\, mentoring and partnerships&nbsp\;to promote opportunities for all women throughout the entire tri-county area.</span></div>\n
LOCATION:Prattville Area Chamber of Commerce 131 North Court Street\, Prattville\, AL 36067
UID:e.1954.2046
SEQUENCE:3
DTSTAMP:20260423T220238Z
URL:https://online.prattvillechamber.com/events/details/2023-women-in-networking-professional-development-series-2046
END:VEVENT

END:VCALENDAR
