BEGIN:VCALENDAR
VERSION:2.0
PRODID:-//ChamberMaster//Event Calendar 2.0//EN
METHOD:PUBLISH
X-PUBLISHED-TTL:P3D
REFRESH-INTERVAL:P3D
CALSCALE:GREGORIAN
BEGIN:VEVENT
DTSTART:20230817T230000Z
DTEND:20230818T010000Z
X-MICROSOFT-CDO-ALLDAYEVENT:FALSE
SUMMARY:2023 Champions of Character Event
DESCRIPTION:You're Invited to Invest in the Mission of the Prattville-Autauga Character Coalition\n\n\n\nThe Prattville-Autauga Character Coalition is proud to host their annual Champions of Character event. The 2023 event will be honoring our Champion of Character\, Coach Butch Thompson. Mark your calendars for Thursday\, August 17\, from 6:00-8:00 P.M. at the Robert Trent Jones Clubhouse in Prattville.\n\n \n\nThe Prattville-Autauga Character Coalition\, a non-profit organization established in 2007 with the purpose of strengthening our community by fostering character development and education among our citizens\, established the Champion of Character Award in 2015 to honor leaders that have displayed exemplary character and encouraged living and leading with good character in daily life. The Prattville-Autauga Character Coalition\, a non-profit organization established in 2007 with the purpose of strengthening our community by fostering character development and education among our citizens\, established the Champion of Character Award in 2015 to honor leaders that have displayed exemplary character and encouraged living and leading with good character in daily life. Coach Thompson was named Auburn's head baseball coach on October 22\, 2015\, and entered his eighth season at the helm of the program in 2023. He has displayed determination\, wisdom\, generosity and gratefulness as he has guided the Auburn baseball team to two College World Series appearances. During his career\, he has coached one national champion and a national runner-up\, won nine conference championships and made 18 postseason appearances.\n\n\n\nThe event will feature a silent auction\, dinner and live music from Gypsy Cornbread. You do not want to miss out!\n\n\nBecome a Sponsor Today\n\n\n\nWant to support the mission to promote excellent character in our community? Become a sponsor today! There are various levels\, all of which include tickets to the event. Learn more by checking out the sponsor form below.\n\n \n\nDownload the 2023 Champions of Character Sponsorship Form by clicking here.\n\n\n\n\n\n\nParticipate in the Silent Auction\n\n\n\nHighlight your business at the Champions of Character's silent auction! This is a great way to support the Prattville-Autauga Character Coalition while increasing your visibility. It is simple to participate   fill out the form below and we will take care of the rest! Forms are due by August 4\, 2023.\n\n\n\nDownload the silent auction form by clicking here. Questions? Please call 334.365.7392.\n\n \n\n\nGet Your Tickets\n\n\n\nTickets are now available for purchase. Individual tickets are $40. Click here to purchase your tickets.\n\n\n\nClick here to learn more about the Prattville-Autauga Character Coalition!
X-ALT-DESC;FMTTYPE=text/html:<div>\n<div 1s="" class="dmNewParagraph" color:="" data-element-type="paragraph" data-version="5" ease-in-out="" font-size:="" id="1817932517" opacity="" open="" style="box-sizing: border-box\; border: 0px solid rgb(51\, 51\, 51)\; -webkit-font-smoothing: antialiased\; margin: 8px 0px\; padding: 2px 0px\; max-width: 100%\; line-height: initial\; -webkit-tap-highlight-color: transparent\; font-family: " transition:="">\n<p class="m-size-21 size-26" style="box-sizing: border-box\; border: 0px solid rgb(51\, 51\, 51)\; -webkit-font-smoothing: antialiased\; font-size: 26px !important\; margin-top: 0px\; margin-bottom: 0px\; -webkit-tap-highlight-color: transparent\;"><span style="font-family:arial\;"><span class="m-font-size-21 font-size-26" style="box-sizing: border-box\; border: 0px solid rgb(51\, 51\, 51)\; -webkit-font-smoothing: antialiased\; -webkit-tap-highlight-color: transparent\; font-weight: 700\; display: initial\; color: rgb(17\, 96\, 169)\;">You&#39\;re Invited to Invest in the Mission of the Prattville-Autauga Character Coalition</span></span></p>\n</div>\n\n<div 1s="" class="dmNewParagraph" color:="" data-element-type="paragraph" data-version="5" ease-in-out="" font-size:="" id="1722693101" opacity="" open="" style="box-sizing: border-box\; border: 0px solid rgb(51\, 51\, 51)\; -webkit-font-smoothing: antialiased\; margin: 8px 0px\; padding: 2px 0px\; max-width: 100%\; line-height: 1.5\; -webkit-tap-highlight-color: transparent\; font-family: " transition:="">\n<p style="box-sizing: border-box\; border: 0px solid rgb(51\, 51\, 51)\; -webkit-font-smoothing: antialiased\; margin-top: 0px\; margin-bottom: 0px\; -webkit-tap-highlight-color: transparent\;"><strong><span style="font-family:arial\;"><span style="box-sizing: border-box\; border: 0px solid rgb(51\, 51\, 51)\; -webkit-font-smoothing: antialiased\; -webkit-tap-highlight-color: transparent\; display: initial\;">The <a href="https://www.pacharacter.org/">Prattville-Autauga Character Coalition</a> is proud to host their&nbsp\;annual Champions of Character event. The 2023&nbsp\;event will be honoring our Champion of Character\, Coach Butch Thompson. Mark your calendars for Thursday\, August 17\, from 6:00-8:00 P.M. at the Robert Trent Jones Clubhouse in Prattville.</span></span></strong></p>\n\n<p style="box-sizing: border-box\; border: 0px solid rgb(51\, 51\, 51)\; -webkit-font-smoothing: antialiased\; margin-top: 0px\; margin-bottom: 0px\; -webkit-tap-highlight-color: transparent\;">&nbsp\;</p>\n\n<p style="box-sizing: border-box\; border: 0px solid rgb(51\, 51\, 51)\; -webkit-font-smoothing: antialiased\; margin-top: 0px\; margin-bottom: 0px\; -webkit-tap-highlight-color: transparent\;"><span style="font-family:arial\;"><span style="box-sizing: border-box\; border: 0px solid rgb(51\, 51\, 51)\; -webkit-font-smoothing: antialiased\; -webkit-tap-highlight-color: transparent\; display: initial\;"><span style="box-sizing: border-box\; border: 0px solid rgb(51\, 51\, 51)\; -webkit-font-smoothing: antialiased\; -webkit-tap-highlight-color: transparent\; display: initial\;">The Prattville-Autauga Character Coalition\, a non-profit organization established in 2007 with the purpose of strengthening our community by fostering character development and education among our citizens\, established the Champion of Character Award in 2015 to honor leaders that have displayed exemplary character and encouraged living and leading with good character in daily life.&nbsp\;</span></span><span style="font-size:12px\;"><span style="box-sizing: border-box\; border: 0px solid rgb(51\, 51\, 51)\; -webkit-font-smoothing: antialiased\; white-space-collapse: preserve\; -webkit-tap-highlight-color: transparent\; color: rgb(63\, 63\, 63)\; display: initial\;">The Prattville-Autauga Character Coalition\, a non-profit organization established in 2007 with the purpose of strengthening our community by fostering character development and education among our citizens\, established the Champion of Character Award in 2015 to honor leaders that have displayed exemplary character and encouraged living and leading with good character in daily life. Coach Thompson was named Auburn&#39\;s head baseball coach on October 22\, 2015\, and entered his eighth season at the helm of the program in 2023. He has displayed </span><span style="box-sizing: border-box\; border: 0px solid rgb(51\, 51\, 51)\; -webkit-font-smoothing: antialiased\; white-space-collapse: preserve\; -webkit-tap-highlight-color: transparent\; color: rgb(63\, 63\, 63)\; display: initial\; font-weight: bold\;">determination\, wisdom\, generosity </span><span style="box-sizing: border-box\; border: 0px solid rgb(51\, 51\, 51)\; -webkit-font-smoothing: antialiased\; white-space-collapse: preserve\; -webkit-tap-highlight-color: transparent\; color: rgb(63\, 63\, 63)\; display: initial\;">and </span><span style="box-sizing: border-box\; border: 0px solid rgb(51\, 51\, 51)\; -webkit-font-smoothing: antialiased\; white-space-collapse: preserve\; -webkit-tap-highlight-color: transparent\; color: rgb(63\, 63\, 63)\; display: initial\; font-weight: bold\;">gratefulness</span><span style="box-sizing: border-box\; border: 0px solid rgb(51\, 51\, 51)\; -webkit-font-smoothing: antialiased\; white-space-collapse: preserve\; -webkit-tap-highlight-color: transparent\; color: rgb(63\, 63\, 63)\; display: initial\;"> as he has guided the Auburn baseball team to two College World Series appearances. During his career\, he has coached one national champion and a national runner-up\, won nine conference championships and made 18 postseason appearances.</span></span><br />\n<br />\n<span style="box-sizing: border-box\; border: 0px solid rgb(51\, 51\, 51)\; -webkit-font-smoothing: antialiased\; -webkit-tap-highlight-color: transparent\; display: initial\;"><span style="box-sizing: border-box\; border: 0px solid rgb(51\, 51\, 51)\; -webkit-font-smoothing: antialiased\; -webkit-tap-highlight-color: transparent\; display: initial\;">The event will feature a silent auction\, dinner and live music from Gypsy Cornbread. You do not want to miss out!</span></span></span></p>\n\n<div 1s="" class="dmNewParagraph" color:="" data-element-type="paragraph" data-version="5" ease-in-out="" font-size:="" id="1934939793" opacity="" open="" style="box-sizing: border-box\; border: 0px solid rgb(51\, 51\, 51)\; -webkit-font-smoothing: antialiased\; margin: 8px 0px\; padding: 2px 0px\; max-width: 100%\; line-height: initial\; -webkit-tap-highlight-color: transparent\; font-family: " transition:="">\n<p class="m-size-21 size-26" style="box-sizing: border-box\; border: 0px solid rgb(51\, 51\, 51)\; -webkit-font-smoothing: antialiased\; font-size: 26px !important\; margin-top: 0px\; margin-bottom: 0px\; -webkit-tap-highlight-color: transparent\;"><span style="font-family:arial\;"><span class="m-font-size-21 font-size-26" style="box-sizing: border-box\; border: 0px solid rgb(51\, 51\, 51)\; -webkit-font-smoothing: antialiased\; -webkit-tap-highlight-color: transparent\; font-weight: bold\; display: initial\; color: rgb(17\, 96\, 169)\;">Become a Sponsor Today</span></span></p>\n</div>\n\n<div 1s="" class="dmNewParagraph" color:="" data-element-type="paragraph" data-version="5" ease-in-out="" font-size:="" id="1330332675" opacity="" open="" style="box-sizing: border-box\; border: 0px solid rgb(51\, 51\, 51)\; -webkit-font-smoothing: antialiased\; margin: 8px 0px\; padding: 2px 0px\; max-width: 100%\; line-height: 1.5\; -webkit-tap-highlight-color: transparent\; font-family: " transition:="">\n<p style="box-sizing: border-box\; border: 0px solid rgb(51\, 51\, 51)\; -webkit-font-smoothing: antialiased\; margin-top: 0px\; margin-bottom: 0px\; -webkit-tap-highlight-color: transparent\;"><span style="font-family:arial\;"><span style="box-sizing: border-box\; border: 0px solid rgb(51\, 51\, 51)\; -webkit-font-smoothing: antialiased\; -webkit-tap-highlight-color: transparent\; display: initial\;">Want to support the mission to promote excellent character in our community? Become a sponsor today! There are various levels\, all of which include tickets to the event. Learn more by checking out the sponsor form below.</span></span></p>\n\n<p style="box-sizing: border-box\; border: 0px solid rgb(51\, 51\, 51)\; -webkit-font-smoothing: antialiased\; margin-top: 0px\; margin-bottom: 0px\; -webkit-tap-highlight-color: transparent\;">&nbsp\;</p>\n\n<p style="box-sizing: border-box\; border: 0px solid rgb(51\, 51\, 51)\; -webkit-font-smoothing: antialiased\; margin-top: 0px\; margin-bottom: 0px\; -webkit-tap-highlight-color: transparent\;"><span style="font-family:arial\;"><span style="box-sizing: border-box\; border: 0px solid rgb(51\, 51\, 51)\; -webkit-font-smoothing: antialiased\; -webkit-tap-highlight-color: transparent\; font-weight: bold\; display: initial\;"><span style="box-sizing: border-box\; border: 0px solid rgb(51\, 51\, 51)\; -webkit-font-smoothing: antialiased\; -webkit-tap-highlight-color: transparent\; display: initial\;">Download the 2023&nbsp\;Champions of Character Sponsorship Form by clicking <a href="https://acrobat.adobe.com/link/review?uri=urn:aaid:scds:US:3edf3c1c-2c31-37b0-8066-a9bc7cf32f68">here</a></span></span><span style="box-sizing: border-box\; border: 0px solid rgb(51\, 51\, 51)\; -webkit-font-smoothing: antialiased\; -webkit-tap-highlight-color: transparent\; font-weight: bold\; display: initial\;">.</span></span></p>\n</div>\n</div>\n</div>\n\n<div>\n<div 1s="" class="dmNewParagraph" color:="" data-element-type="paragraph" data-version="5" ease-in-out="" font-size:="" id="1817932517" opacity="" open="" style="box-sizing: border-box\; border: 0px solid rgb(51\, 51\, 51)\; -webkit-font-smoothing: antialiased\; margin: 8px 0px\; padding: 2px 0px\; max-width: 100%\; line-height: initial\; -webkit-tap-highlight-color: transparent\; font-family: " transition:="">\n<p class="m-size-21 size-26" style="box-sizing: border-box\; border: 0px solid rgb(51\, 51\, 51)\; -webkit-font-smoothing: antialiased\; font-size: 26px !important\; margin-top: 0px\; margin-bottom: 0px\; -webkit-tap-highlight-color: transparent\;"><span style="font-family:arial\;"><span class="font-size-26 m-font-size-21" style="box-sizing: border-box\; border: 0px solid rgb(51\, 51\, 51)\; -webkit-font-smoothing: antialiased\; -webkit-tap-highlight-color: transparent\; color: rgb(17\, 96\, 169)\; display: initial\; font-weight: 700\;">Participate in the Silent Auction</span></span></p>\n</div>\n\n<div 1s="" class="dmNewParagraph" color:="" data-element-type="paragraph" data-version="5" ease-in-out="" font-size:="" id="1722693101" opacity="" open="" style="box-sizing: border-box\; border: 0px solid rgb(51\, 51\, 51)\; -webkit-font-smoothing: antialiased\; margin: 8px 0px\; padding: 2px 0px\; max-width: 100%\; line-height: 1.5\; -webkit-tap-highlight-color: transparent\; font-family: " transition:="">\n<p style="box-sizing: border-box\; border: 0px solid rgb(51\, 51\, 51)\; -webkit-font-smoothing: antialiased\; margin-top: 0px\; margin-bottom: 0px\; -webkit-tap-highlight-color: transparent\;"><span style="font-family:arial\;"><span style="box-sizing: border-box\; border: 0px solid rgb(51\, 51\, 51)\; -webkit-font-smoothing: antialiased\; -webkit-tap-highlight-color: transparent\; display: initial\;">Highlight your business at the Champions of Character&#39\;s silent auction! This is a great way to support the Prattville-Autauga Character Coalition while increasing your visibility. It is simple to participate &ndash\; fill out the form below and we will take care of the rest! <strong><span style="color:#df1e36\;">Forms are due by August 4\, 2023.</span></strong></span></span></p>\n\n<p style="box-sizing: border-box\; border: 0px solid rgb(51\, 51\, 51)\; -webkit-font-smoothing: antialiased\; margin-top: 0px\; margin-bottom: 0px\; -webkit-tap-highlight-color: transparent\;"><br style="box-sizing: border-box\; border: 0px solid rgb(51\, 51\, 51)\; -webkit-font-smoothing: antialiased\; -webkit-tap-highlight-color: transparent\;" />\n<span style="font-family:arial\;"><span style="box-sizing: border-box\; border: 0px solid rgb(51\, 51\, 51)\; -webkit-font-smoothing: antialiased\; -webkit-tap-highlight-color: transparent\; display: initial\; font-weight: bold\;"><span style="box-sizing: border-box\; border: 0px solid rgb(51\, 51\, 51)\; -webkit-font-smoothing: antialiased\; -webkit-tap-highlight-color: transparent\; display: initial\;">Download the silent auction form by clicking</span>&nbsp\;</span><a file="true" href="https://acrobat.adobe.com/link/review?uri=urn:aaid:scds:US:9690b0c3-da80-3249-9421-b17e1b90f737" runtime_url="https://irp.cdn-website.com/deab5c64/files/uploaded/2022%20Silent%20Auction%20Form%20-%20Revised.pdf" style="box-sizing: border-box\; border: 0px solid rgb(51\, 51\, 51)\; vertical-align: initial\; -webkit-font-smoothing: antialiased\; color: rgb(17\, 95\, 170)\; outline: 0px\; -webkit-tap-highlight-color: transparent\; text-decoration-line: none\; display: initial\; font-weight: bold\;" target="_blank" type="file">here</a><span style="box-sizing: border-box\; border: 0px solid rgb(51\, 51\, 51)\; -webkit-font-smoothing: antialiased\; -webkit-tap-highlight-color: transparent\; display: initial\; font-weight: bold\;"><span style="box-sizing: border-box\; border: 0px solid rgb(51\, 51\, 51)\; -webkit-font-smoothing: antialiased\; -webkit-tap-highlight-color: transparent\; display: initial\;">.</span>&nbsp\;</span><span style="box-sizing: border-box\; border: 0px solid rgb(51\, 51\, 51)\; -webkit-font-smoothing: antialiased\; -webkit-tap-highlight-color: transparent\; display: initial\;"><span style="box-sizing: border-box\; border: 0px solid rgb(51\, 51\, 51)\; -webkit-font-smoothing: antialiased\; -webkit-tap-highlight-color: transparent\; display: initial\;">Questions? Please call&nbsp\;</span></span></span><span style="box-sizing: border-box\; border: 0px solid rgb(51\, 51\, 51)\; -webkit-font-smoothing: antialiased\; -webkit-tap-highlight-color: transparent\; display: initial\;"><span style="box-sizing: border-box\; border: 0px solid rgb(51\, 51\, 51)\; -webkit-font-smoothing: antialiased\; -webkit-tap-highlight-color: transparent\; display: initial\;"><tcxspan style="box-sizing: border-box\; border: 0px solid rgb(51\, 51\, 51)\; text-decoration-line: underline\; cursor: pointer\; -webkit-font-smoothing: antialiased\; -webkit-tap-highlight-color: transparent\;" tcxhref="3343657392" title="Call  334.365.7392.  via 3CX"><span style="font-family:arial\;">334.365.7392.</span></tcxspan></span></span><br />\n&nbsp\;</p>\n\n<div 1s="" class="dmNewParagraph" color:="" data-element-type="paragraph" data-version="5" ease-in-out="" font-size:="" id="1817932517" opacity="" open="" style="box-sizing: border-box\; border: 0px solid rgb(51\, 51\, 51)\; -webkit-font-smoothing: antialiased\; margin: 8px 0px\; padding: 2px 0px\; max-width: 100%\; line-height: initial\; -webkit-tap-highlight-color: transparent\; font-family: " transition:="">\n<p class="m-size-21 size-26" style="box-sizing: border-box\; border: 0px solid rgb(51\, 51\, 51)\; -webkit-font-smoothing: antialiased\; font-size: 26px !important\; margin-top: 0px\; margin-bottom: 0px\; -webkit-tap-highlight-color: transparent\;"><font color="#1160a9" face="arial"><b>Get Your Tickets</b></font></p>\n</div>\n\n<div 1s="" class="dmNewParagraph" color:="" data-element-type="paragraph" data-version="5" ease-in-out="" font-size:="" id="1722693101" opacity="" open="" style="box-sizing: border-box\; border: 0px solid rgb(51\, 51\, 51)\; -webkit-font-smoothing: antialiased\; margin: 8px 0px\; padding: 2px 0px\; max-width: 100%\; line-height: 1.5\; -webkit-tap-highlight-color: transparent\; font-family: " transition:="">\n<p style="box-sizing: border-box\; border: 0px solid rgb(51\, 51\, 51)\; -webkit-font-smoothing: antialiased\; margin-top: 0px\; margin-bottom: 0px\; -webkit-tap-highlight-color: transparent\;"><strong>Tickets are now available for purchase. Individual tickets are $40. <a href="https://prattvillechamber.chambermaster.com/eventregistration/register/2084">Click here to purchase your tickets.</a></strong><br />\n<br />\n<a href="https://www.pacharacter.org/champions-of-character"><span style="font-size:18px\;"><em><span style="font-family: arial\; font-weight: 700\;">Click here to learn more about the Prattville-Autauga Character Coalition!&nbsp\;</span></em></span></a></p>\n</div>\n</div>\n</div>\n
LOCATION:Robert Trent Jones Clubhouse 2600 Constitution Ave\, Prattville\, AL.
UID:e.1954.2084
SEQUENCE:3
DTSTAMP:20260423T140915Z
URL:https://online.prattvillechamber.com/events/details/2023-champions-of-character-event-2084
END:VEVENT

END:VCALENDAR
