BEGIN:VCALENDAR
VERSION:2.0
PRODID:-//ChamberMaster//Event Calendar 2.0//EN
METHOD:PUBLISH
X-PUBLISHED-TTL:P3D
REFRESH-INTERVAL:P3D
CALSCALE:GREGORIAN
BEGIN:VEVENT
DTSTART:20230127T173000Z
DTEND:20230127T190000Z
X-MICROSOFT-CDO-ALLDAYEVENT:FALSE
SUMMARY:2022 Women In Networking Professional Development Series | Session Two
DESCRIPTION:The Greatest Show on Earth\n\nThe Prattville Area Chamber of Commerce is excited to be partnering with Troy University University Continuing Education and Outreach for the 2023 Women in Networking Series: The Greatest Show on Earth. The second series will be "Walking the Tightrope" on January 27\, 2023\, from 11:30-1:00 P.M. Tickets are only $30\, so make sure you register today! You do not have to be a Chamber Member to participate. Click here to register for the luncheon.\n\n\n\nChange is inevitable\, but we hate it! Our human nature is averse to change and even the simplest change can throw us into a tailspin. Why is that? This session will guide participants through five keys to handling change in their personal and professional lives through a discussion on:\n\n	Understanding our intellectual and emotional reaction to change\n	Differentiating between change and transition\n	Embracing communication as key to navigating the chaos and opportunity of change\n\n\n \n\nSave the date for the upcoming luncheons in this WIN series:\n\n \n\nMarch 3\, 2023 | Juggling (Managing Multiple Priorities)\n\nJune 9\, 2023 | The Human Cannonball (Communication)\n\n \n\n\n\n\nWIN's mission is to empower and develop women through professional development luncheons\, networking\, mentoring and partnerships to promote opportunities for all women throughout the entire tri-county area.
X-ALT-DESC;FMTTYPE=text/html:<div _mce_style="font-family: " font-size:="" new="" style="box-sizing: content-box\; inset: auto\; clear: none\; content: normal\; direction: inherit\; empty-cells: show\; float: none\; font-variant-numeric: inherit\; font-variant-east-asian: inherit\; font-stretch: inherit\; font-size: 14px\; font-family: arial\, sans-serif\; line-height: inherit\; margin: 0px\; max-height: none\; max-width: none\; min-height: initial\; min-width: initial\; opacity: 1\; outline-offset: 0px\; overflow: visible\; padding: 0px\; position: static\; resize: none\; table-layout: auto\; text-overflow: clip\; vertical-align: baseline\; visibility: inherit\; word-break: inherit\; overflow-wrap: inherit\; z-index: auto\; background: none rgb(255\, 255\, 255)\; border: none\; border-collapse: separate\; border-radius: 0px\; height: auto\; width: auto\; box-shadow: none\;" times="">\n<div style="text-align: center\;">\n<div style="text-align: left\;"><span style="color:#1e7679\;"><span style="font-size: 22px\; font-weight: bold\; font-family: Arial\, Verdana\, Helvetica\, sans-serif\; text-align: center\; white-space: pre-wrap\;">The Greatest Show on Earth</span></span><br />\n<span style="font-size:14px\;"><strong><span style="color:#000000\;"><span _mce_style="color: #000000\;" style="font-style: inherit\; font-variant: inherit\; font-stretch: inherit\; line-height: inherit\; font-family: inherit\; letter-spacing: inherit\; text-align: inherit\; text-indent: inherit\; text-transform: inherit\; white-space: inherit\; word-spacing: inherit\; box-sizing: content-box\; inset: auto\; clear: none\; content: normal\; direction: inherit\; display: inline\; empty-cells: show\; float: none\; margin: 0px\; max-height: none\; max-width: none\; min-height: initial\; min-width: initial\; opacity: 1\; outline-offset: 0px\; overflow: visible\; padding: 0px\; position: static\; resize: none\; table-layout: auto\; text-overflow: clip\; vertical-align: baseline\; visibility: inherit\; word-break: inherit\; overflow-wrap: inherit\; z-index: auto\; background-image: none\; background-position: initial\; background-size: initial\; background-repeat: initial\; background-attachment: initial\; background-origin: initial\; background-clip: initial\; border: none\; border-collapse: separate\; border-radius: 0px\; height: auto\; width: auto\; box-shadow: none\;"><span _mce_style="box-sizing: content-box\; bottom: auto\; clear: none\; color: inherit\; content: normal\; direction: inherit\; empty-cells: show\; font-style: inherit\; font-variant: inherit\; font-weight: inherit\; font-stretch: inherit\; font-size: 13.5pt\; font-family: inherit\; left: auto\; letter-spacing: inherit\; line-height: inherit\; margin: 0px\; max-height: none\; max-width: none\; min-height: initial\; min-width: initial\; opacity: 1\; outline-offset: 0px\; overflow: visible\; padding: 0px\; resize: none\; right: auto\; table-layout: auto\; text-align: inherit\; text-indent: inherit\; text-overflow: clip\; text-transform: inherit\; top: auto\; vertical-align: baseline\; visibility: inherit\; white-space: inherit\; word-break: inherit\; word-spacing: inherit\; overflow-wrap: inherit\; z-index: auto\; background: none\; border: none\; border-collapse: separate\; border-radius: 0px\; height: auto\; width: auto\; box-shadow: none\;" style="font-weight: inherit\; box-sizing: content-box\; inset: auto\; clear: none\; content: normal\; direction: inherit\; display: inline\; empty-cells: show\; float: none\; font-style: inherit\; font-variant: inherit\; font-stretch: inherit\; font-family: inherit\; letter-spacing: inherit\; line-height: inherit\; margin: 0px\; max-height: none\; max-width: none\; min-height: initial\; min-width: initial\; opacity: 1\; outline-offset: 0px\; overflow: visible\; padding: 0px\; position: static\; resize: none\; table-layout: auto\; text-align: inherit\; text-indent: inherit\; text-overflow: clip\; text-transform: inherit\; vertical-align: baseline\; visibility: inherit\; white-space: inherit\; word-break: inherit\; word-spacing: inherit\; overflow-wrap: inherit\; z-index: auto\; background-image: none\; background-position: initial\; background-size: initial\; background-repeat: initial\; background-attachment: initial\; background-origin: initial\; background-clip: initial\; border: none\; border-collapse: separate\; border-radius: 0px\; height: auto\; width: auto\; box-shadow: none\;">The Prattville Area Chamber of Commerce is excited to be partnering with Troy University University Continuing Education and Outreach for the 2023 Women in Networking Series: The Greatest Show on Earth.&nbsp\;</span></span></span></strong></span><span style="color:#000000\;"><span style="font-family: Arial\, Verdana\, Helvetica\, sans-serif\; white-space: pre-wrap\; font-weight: bold\;">The second series will be </span><span style="font-family: Arial\, Verdana\, Helvetica\, sans-serif\; white-space: pre-wrap\; font-weight: bold\;">&quot\;Walking the Tightrope&quot\;</span><span style="font-family: Arial\, Verdana\, Helvetica\, sans-serif\; white-space: pre-wrap\; font-weight: bold\;"> on January 27\, 2023\, from 11:30-1:00 P.M. Tickets are only $30\, so make sure you register today<span style="font-size:14px\;">! </span></span></span><em style="color: rgb(0\, 0\, 0)\; font-family: Arial\, Verdana\, Helvetica\, sans-serif\; font-size: 14px\; white-space: pre-wrap\;"><strong style="font-family: arial\, sans-serif\; color: rgb(0\, 38\, 100)\;"><span style="color:#000000\;"><span _mce_style="color: #000000\; font-size: 18px\;" style="font-family: inherit\; font-style: inherit\; font-variant: inherit\; font-weight: inherit\; letter-spacing: inherit\; text-align: inherit\; text-indent: inherit\; text-transform: inherit\; white-space: inherit\; word-spacing: inherit\; box-sizing: content-box\; inset: auto\; clear: none\; content: normal\; direction: inherit\; display: inline\; empty-cells: show\; float: none\; font-stretch: inherit\; line-height: inherit\; margin: 0px\; max-height: none\; max-width: none\; min-height: initial\; min-width: initial\; opacity: 1\; outline-offset: 0px\; overflow: visible\; padding: 0px\; position: static\; resize: none\; table-layout: auto\; text-overflow: clip\; vertical-align: baseline\; visibility: inherit\; word-break: inherit\; overflow-wrap: inherit\; z-index: auto\; background: none\; border: none\; border-collapse: separate\; border-radius: 0px\; height: auto\; width: auto\; box-shadow: none\;">You do not have to be a Chamber Member to participate.</span></span><span style="color: rgb(255\, 0\, 0)\;"><span _mce_style="color: #000000\; font-size: 18px\;" style="font-family: inherit\; font-style: inherit\; font-variant: inherit\; font-weight: inherit\; letter-spacing: inherit\; text-align: inherit\; text-indent: inherit\; text-transform: inherit\; white-space: inherit\; word-spacing: inherit\; box-sizing: content-box\; inset: auto\; clear: none\; content: normal\; direction: inherit\; display: inline\; empty-cells: show\; float: none\; font-stretch: inherit\; line-height: inherit\; margin: 0px\; max-height: none\; max-width: none\; min-height: initial\; min-width: initial\; opacity: 1\; outline-offset: 0px\; overflow: visible\; padding: 0px\; position: static\; resize: none\; table-layout: auto\; text-overflow: clip\; vertical-align: baseline\; visibility: inherit\; word-break: inherit\; overflow-wrap: inherit\; z-index: auto\; background: none\; border: none\; border-collapse: separate\; border-radius: 0px\; height: auto\; width: auto\; box-shadow: none\;"><span style="font-size:14px\;">&nbsp\;</span></span></span></strong></em><a href="https://prattvillechamber.chambermaster.com/eventregistration/register/2027"><span style="font-size:14px\;"><u style="white-space: pre-wrap\; box-sizing: border-box\; border: 0px solid rgb(51\, 51\, 51)\; -webkit-font-smoothing: antialiased\; -webkit-tap-highlight-color: transparent\; color: rgb(68\, 68\, 68)\; font-family: arial\, sans-serif\; font-size: 16px\;"><span style="box-sizing: border-box\; border: 0px solid rgb(51\, 51\, 51)\; font-weight: bolder\; -webkit-font-smoothing: antialiased\; -webkit-tap-highlight-color: transparent\;"><span style="box-sizing: border-box\; border: 0px solid rgb(51\, 51\, 51)\; -webkit-font-smoothing: antialiased\; -webkit-tap-highlight-color: transparent\; color: rgb(0\, 0\, 255)\;" tabindex="0">Click here to register for the luncheon</span></span></u></span></a><span style="font-size:14px\;"><u style="white-space: pre-wrap\; box-sizing: border-box\; border: 0px solid rgb(51\, 51\, 51)\; -webkit-font-smoothing: antialiased\; -webkit-tap-highlight-color: transparent\; color: rgb(68\, 68\, 68)\; font-family: arial\, sans-serif\; font-size: 16px\;"><span style="box-sizing: border-box\; border: 0px solid rgb(51\, 51\, 51)\; font-weight: bolder\; -webkit-font-smoothing: antialiased\; -webkit-tap-highlight-color: transparent\;"><a href="https://prattvillechamber.chambermaster.com/eventregistration/register/2027"><span style="box-sizing: border-box\; border: 0px solid rgb(51\, 51\, 51)\; -webkit-font-smoothing: antialiased\; -webkit-tap-highlight-color: transparent\; color: rgb(0\, 0\, 255)\;" tabindex="0">.</span></a></span></u></span><br />\n<br />\nChange is inevitable\, but we hate it! Our human nature is averse to change and even the simplest change can throw us into a tailspin. Why is that? This session will guide participants through five keys to handling change in their personal and professional lives through a discussion on:\n<ol>\n	<li style="margin-left:0in\;"><span style="font-size:11.0pt\;">Understanding our intellectual and emotional reaction to change</span></li>\n	<li style="margin-left:0in\;"><span style="font-size:11.0pt\;">Differentiating between change and transition</span></li>\n	<li style="margin-left:0in\;"><span style="font-size:11.0pt\;">Embracing communication as key to navigating the chaos and opportunity of change</span></li>\n</ol>\n\n<div style="color: rgb(0\, 0\, 0)\; font-family: Arial\, Verdana\, Helvetica\, sans-serif\; font-size: 14px\; white-space: pre-wrap\;">&nbsp\;</div>\n\n<div style="color: rgb(0\, 0\, 0)\; font-family: Arial\, Verdana\, Helvetica\, sans-serif\; font-size: 14px\; white-space: pre-wrap\; text-align: center\;"><span style="color:#1e7679\;"><span style="font-weight: bold\; font-size: 18px\; text-decoration-line: underline\;">Save the date for the upcoming luncheons in this WIN series:</span></span></div>\n\n<div style="color: rgb(0\, 0\, 0)\; font-family: Arial\, Verdana\, Helvetica\, sans-serif\; font-size: 14px\; white-space: pre-wrap\;">&nbsp\;</div>\n\n<div style="color: rgb(0\, 0\, 0)\; font-family: Arial\, Verdana\, Helvetica\, sans-serif\; font-size: 14px\; white-space: pre-wrap\; text-align: center\;"><span style="font-weight: bold\;">March 3\, 2023 | </span>Juggling (Managing Multiple Priorities)</div>\n\n<div style="color: rgb(0\, 0\, 0)\; font-family: Arial\, Verdana\, Helvetica\, sans-serif\; font-size: 14px\; white-space: pre-wrap\; text-align: center\;"><span style="font-weight: bold\;">June 9\, 2023 | </span>The Human Cannonball (Communication)<br />\n&nbsp\;</div>\n</div>\n</div>\n</div>\n\n<div _mce_style="font-family: " font-size:="" new="" style="box-sizing: content-box\; bottom: auto\; clear: none\; color: rgb(0\, 38\, 100)\; content: normal\; direction: inherit\; empty-cells: show\; float: none\; font-variant-numeric: inherit\; font-variant-east-asian: inherit\; font-stretch: inherit\; font-size: 14px\; font-family: arial\, sans-serif\; left: auto\; line-height: inherit\; margin: 0px\; max-height: none\; max-width: none\; min-height: initial\; min-width: initial\; opacity: 1\; outline-offset: 0px\; overflow: visible\; padding: 0px\; position: static\; resize: none\; right: auto\; table-layout: auto\; text-overflow: clip\; top: auto\; vertical-align: baseline\; visibility: inherit\; word-break: inherit\; overflow-wrap: inherit\; z-index: auto\; background: none rgb(255\, 255\, 255)\; border: none\; border-collapse: separate\; border-radius: 0px\; height: auto\; width: auto\; box-shadow: none\;" times=""><span style="color: rgb(7\, 7\, 7)\; font-family: Arial\, Verdana\, Helvetica\, sans-serif\; font-size: 14px\; font-style: italic\; text-align: center\; white-space: pre-wrap\;">WIN&#39\;s mission is to empower and develop women through professional development luncheons\, networking\, mentoring and partnerships&nbsp\;to promote opportunities for all women throughout the entire tri-county area.</span></div>\n
LOCATION:Prattville Area Chamber of Commerce 131 North Court Street\, Prattville\, AL 36067
UID:e.1954.2027
SEQUENCE:3
DTSTAMP:20260424T011949Z
URL:https://online.prattvillechamber.com/events/details/2022-women-in-networking-professional-development-series-session-two-2027
END:VEVENT

END:VCALENDAR
