BEGIN:VCALENDAR
VERSION:2.0
PRODID:-//ChamberMaster//Event Calendar 2.0//EN
METHOD:PUBLISH
X-PUBLISHED-TTL:P3D
REFRESH-INTERVAL:P3D
CALSCALE:GREGORIAN
BEGIN:VEVENT
DTSTART:20220819T163000Z
DTEND:20220819T180000Z
X-MICROSOFT-CDO-ALLDAYEVENT:FALSE
SUMMARY:2022 Women In Networking Professional Development Series | Session One
DESCRIPTION:The Greatest Show on Earth\n\nThe Prattville Area Chamber of Commerce is excited to be partnering with Troy University University Continuing Education and Outreach for the 2022 Women in Networking Series: The Greatest Show on Earth. The first series will be "Taming the Lions" on August 19 from 11:30-1:00 P.M. Tickets are only $30\, so make sure you register today! You do not have to be a Chamber Member to participate. Click here to register for the luncheon.\n\n\n\nWe see them at the circus\, zoo and in the wild but have you ever been in an enclosed area with a pride of lions? Just the thought of this brings your stress level up. There is a lot we can learn if we are able to manage difficult times. Join us for a discussion on how we can get better at controlling our levels of stress.\n\n\n\nSession Takeaways:\n\n1. What is stress/are the causes of stress?\n\n2. Different symptoms of stress\n\n3. Five stages of stress and how to manage them\n\n\n\nJoel Hughes has two decades of experience in higher education administration\, including his time with TROY CE&O as Training Program Manager. He works with organizations to develop leaders with successful project management skills\, all the while reinforcing the importance of follow-through and authentically connecting with others. He works with organizations to strengthen and develop personal and professional growth.\n\n\nMember login information is not currently active. If you are a member click the blue "register now" button and use the "Not a Member" link in the upper right side of the page to complete your online registration.\n\n \n\nSave the date for the upcoming luncheons in this WIN series:\n\n \n\nDecember 2\, 2022 | Walking the Tightrope (Dealing with Change)\n\nMarch 3\, 2023 | Juggling (Managing Multiple Priorities)\n\nJune 9\, 2023 | The Human Cannonball (Communication)\n\n \n\n\n\n\nWIN's mission is to empower and develop women through professional development luncheons\, networking\, mentoring and partnerships to promote opportunities for all women throughout the entire tri-county area.
X-ALT-DESC;FMTTYPE=text/html:<div _mce_style="font-family: " font-size:="" new="" style="box-sizing: content-box\; inset: auto\; clear: none\; content: normal\; direction: inherit\; empty-cells: show\; float: none\; font-variant-numeric: inherit\; font-variant-east-asian: inherit\; font-stretch: inherit\; font-size: 14px\; font-family: arial\, sans-serif\; line-height: inherit\; margin: 0px\; max-height: none\; max-width: none\; min-height: initial\; min-width: initial\; opacity: 1\; outline-offset: 0px\; overflow: visible\; padding: 0px\; position: static\; resize: none\; table-layout: auto\; text-overflow: clip\; vertical-align: baseline\; visibility: inherit\; word-break: inherit\; overflow-wrap: inherit\; z-index: auto\; background: none rgb(255\, 255\, 255)\; border: none\; border-collapse: separate\; border-radius: 0px\; height: auto\; width: auto\; box-shadow: none\;" times="">\n<div style="text-align: center\;">\n<div style="text-align: left\;"><span style="color:#1e7679\;"><span style="font-size: 22px\; font-weight: bold\; font-family: Arial\, Verdana\, Helvetica\, sans-serif\; text-align: center\; white-space: pre-wrap\;">The Greatest Show on Earth</span></span><br />\n<span style="font-size:14px\;"><strong><span style="color:#000000\;"><span _mce_style="color: #000000\;" style="font-style: inherit\; font-variant: inherit\; font-stretch: inherit\; line-height: inherit\; font-family: inherit\; letter-spacing: inherit\; text-align: inherit\; text-indent: inherit\; text-transform: inherit\; white-space: inherit\; word-spacing: inherit\; box-sizing: content-box\; inset: auto\; clear: none\; content: normal\; direction: inherit\; display: inline\; empty-cells: show\; float: none\; margin: 0px\; max-height: none\; max-width: none\; min-height: initial\; min-width: initial\; opacity: 1\; outline-offset: 0px\; overflow: visible\; padding: 0px\; position: static\; resize: none\; table-layout: auto\; text-overflow: clip\; vertical-align: baseline\; visibility: inherit\; word-break: inherit\; overflow-wrap: inherit\; z-index: auto\; background-image: none\; background-position: initial\; background-size: initial\; background-repeat: initial\; background-attachment: initial\; background-origin: initial\; background-clip: initial\; border: none\; border-collapse: separate\; border-radius: 0px\; height: auto\; width: auto\; box-shadow: none\;"><span _mce_style="box-sizing: content-box\; bottom: auto\; clear: none\; color: inherit\; content: normal\; direction: inherit\; empty-cells: show\; font-style: inherit\; font-variant: inherit\; font-weight: inherit\; font-stretch: inherit\; font-size: 13.5pt\; font-family: inherit\; left: auto\; letter-spacing: inherit\; line-height: inherit\; margin: 0px\; max-height: none\; max-width: none\; min-height: initial\; min-width: initial\; opacity: 1\; outline-offset: 0px\; overflow: visible\; padding: 0px\; resize: none\; right: auto\; table-layout: auto\; text-align: inherit\; text-indent: inherit\; text-overflow: clip\; text-transform: inherit\; top: auto\; vertical-align: baseline\; visibility: inherit\; white-space: inherit\; word-break: inherit\; word-spacing: inherit\; overflow-wrap: inherit\; z-index: auto\; background: none\; border: none\; border-collapse: separate\; border-radius: 0px\; height: auto\; width: auto\; box-shadow: none\;" style="font-weight: inherit\; box-sizing: content-box\; inset: auto\; clear: none\; content: normal\; direction: inherit\; display: inline\; empty-cells: show\; float: none\; font-style: inherit\; font-variant: inherit\; font-stretch: inherit\; font-family: inherit\; letter-spacing: inherit\; line-height: inherit\; margin: 0px\; max-height: none\; max-width: none\; min-height: initial\; min-width: initial\; opacity: 1\; outline-offset: 0px\; overflow: visible\; padding: 0px\; position: static\; resize: none\; table-layout: auto\; text-align: inherit\; text-indent: inherit\; text-overflow: clip\; text-transform: inherit\; vertical-align: baseline\; visibility: inherit\; white-space: inherit\; word-break: inherit\; word-spacing: inherit\; overflow-wrap: inherit\; z-index: auto\; background-image: none\; background-position: initial\; background-size: initial\; background-repeat: initial\; background-attachment: initial\; background-origin: initial\; background-clip: initial\; border: none\; border-collapse: separate\; border-radius: 0px\; height: auto\; width: auto\; box-shadow: none\;">The Prattville Area Chamber of Commerce is excited to be partnering with Troy University University Continuing Education and Outreach for the 2022 Women in Networking Series: The Greatest Show on Earth.&nbsp\;</span></span></span></strong></span><span style="color:#000000\;"><span style="font-family: Arial\, Verdana\, Helvetica\, sans-serif\; white-space: pre-wrap\; font-weight: bold\;">The first series will be </span><span style="font-family: Arial\, Verdana\, Helvetica\, sans-serif\; white-space: pre-wrap\; font-weight: bold\;">&quot\;Taming the Lions&quot\;</span><span style="font-family: Arial\, Verdana\, Helvetica\, sans-serif\; white-space: pre-wrap\; font-weight: bold\;"> on August 19 from 11:30-1:00 P.M. Tickets are only $30\, so make sure you register today<span style="font-size:14px\;">! </span></span></span><em style="color: rgb(0\, 0\, 0)\; font-family: Arial\, Verdana\, Helvetica\, sans-serif\; font-size: 14px\; white-space: pre-wrap\;"><strong style="font-family: arial\, sans-serif\; color: rgb(0\, 38\, 100)\;"><span style="color:#000000\;"><span _mce_style="color: #000000\; font-size: 18px\;" style="font-family: inherit\; font-style: inherit\; font-variant: inherit\; font-weight: inherit\; letter-spacing: inherit\; text-align: inherit\; text-indent: inherit\; text-transform: inherit\; white-space: inherit\; word-spacing: inherit\; box-sizing: content-box\; inset: auto\; clear: none\; content: normal\; direction: inherit\; display: inline\; empty-cells: show\; float: none\; font-stretch: inherit\; line-height: inherit\; margin: 0px\; max-height: none\; max-width: none\; min-height: initial\; min-width: initial\; opacity: 1\; outline-offset: 0px\; overflow: visible\; padding: 0px\; position: static\; resize: none\; table-layout: auto\; text-overflow: clip\; vertical-align: baseline\; visibility: inherit\; word-break: inherit\; overflow-wrap: inherit\; z-index: auto\; background: none\; border: none\; border-collapse: separate\; border-radius: 0px\; height: auto\; width: auto\; box-shadow: none\;">You do not have to be a Chamber Member to participate.</span></span><span style="color: rgb(255\, 0\, 0)\;"><span _mce_style="color: #000000\; font-size: 18px\;" style="font-family: inherit\; font-style: inherit\; font-variant: inherit\; font-weight: inherit\; letter-spacing: inherit\; text-align: inherit\; text-indent: inherit\; text-transform: inherit\; white-space: inherit\; word-spacing: inherit\; box-sizing: content-box\; inset: auto\; clear: none\; content: normal\; direction: inherit\; display: inline\; empty-cells: show\; float: none\; font-stretch: inherit\; line-height: inherit\; margin: 0px\; max-height: none\; max-width: none\; min-height: initial\; min-width: initial\; opacity: 1\; outline-offset: 0px\; overflow: visible\; padding: 0px\; position: static\; resize: none\; table-layout: auto\; text-overflow: clip\; vertical-align: baseline\; visibility: inherit\; word-break: inherit\; overflow-wrap: inherit\; z-index: auto\; background: none\; border: none\; border-collapse: separate\; border-radius: 0px\; height: auto\; width: auto\; box-shadow: none\;"><span style="font-size:14px\;">&nbsp\;</span></span></span></strong></em><span style="font-size:14px\;"><u style="white-space: pre-wrap\; box-sizing: border-box\; border: 0px solid rgb(51\, 51\, 51)\; -webkit-font-smoothing: antialiased\; -webkit-tap-highlight-color: transparent\; color: rgb(68\, 68\, 68)\; font-family: arial\, sans-serif\; font-size: 16px\;"><span style="box-sizing: border-box\; border: 0px solid rgb(51\, 51\, 51)\; font-weight: bolder\; -webkit-font-smoothing: antialiased\; -webkit-tap-highlight-color: transparent\;"><a href="https://prattvillechamber.chambermaster.com/eventregistration/register/1983" style="color: rgb(3\, 47\, 135)\; box-sizing: border-box\; border: 0px solid rgb(51\, 51\, 51)\; vertical-align: initial\; -webkit-font-smoothing: antialiased\; outline: 0px\; -webkit-tap-highlight-color: transparent\; text-decoration-line: none\; background-color: transparent\; overflow-wrap: break-word\;" tabindex="0"><span style="box-sizing: border-box\; border: 0px solid rgb(51\, 51\, 51)\; -webkit-font-smoothing: antialiased\; -webkit-tap-highlight-color: transparent\; color: rgb(0\, 0\, 255)\;" tabindex="0">Click here to register for the luncheon.</span></a></span></u></span><br />\n<br />\n<strong><span style="color:#008080\;">We see them at the circus\, zoo and in the wild but have you ever been in an enclosed area with a pride of lions? Just the thought of this brings your stress level up. There is a lot we can learn if we are able to manage difficult times. Join us for a discussion on how we can get better at controlling our levels of stress.<br />\n<br />\n<u>Session Takeaways:</u><br />\n1. What is stress/are the causes of stress?<br />\n2. Different symptoms of stress<br />\n3. Five stages of stress and how to manage them</span></strong><br />\n<br />\n<em style="color: rgb(0\, 0\, 0)\; font-family: Arial\, Verdana\, Helvetica\, sans-serif\; white-space: pre-wrap\;"><span style="font-size:11.0pt\;">Joel Hughes has two decades of experience in higher education administration\, including his time with TROY CE&amp\;O as Training Program Manager.&nbsp\;He works with organizations to develop leaders with successful project management skills\, all the while reinforcing the importance of follow-through and authentically connecting with others.&nbsp\;He works with organizations to strengthen and develop personal and professional growth.</span></em>\n<div style="color: rgb(0\, 0\, 0)\; font-family: Arial\, Verdana\, Helvetica\, sans-serif\; font-size: 14px\; white-space: pre-wrap\;"><br />\n<span style="box-sizing: border-box\; border: 0px solid rgb(51\, 51\, 51)\; -webkit-font-smoothing: antialiased\; -webkit-tap-highlight-color: transparent\; font-family: arial\, sans-serif\; font-size: 16px\; color: rgb(255\, 0\, 0)\;" tabindex="0"><span style="box-sizing: border-box\; border: 0px solid rgb(51\, 51\, 51)\; font-weight: bolder\; -webkit-font-smoothing: antialiased\; -webkit-tap-highlight-color: transparent\;">Member login information is not currently active. If you are a member click the blue&nbsp\;</span></span><span style="box-sizing: border-box\; border: 0px solid rgb(51\, 51\, 51)\; font-weight: bolder\; -webkit-font-smoothing: antialiased\; -webkit-tap-highlight-color: transparent\; color: rgb(68\, 68\, 68)\; font-family: arial\, sans-serif\; font-size: 16px\;"><a href="https://prattvillechamber.chambermaster.com/eventregistration/register/1983" style="box-sizing: border-box\; border: 0px solid rgb(51\, 51\, 51)\; vertical-align: initial\; -webkit-font-smoothing: antialiased\; color: rgb(3\, 47\, 135)\; outline: 0px\; -webkit-tap-highlight-color: transparent\; text-decoration-line: none\; background-color: transparent\; overflow-wrap: break-word\;" tabindex="0"><span style="box-sizing: border-box\; border: 0px solid rgb(51\, 51\, 51)\; -webkit-font-smoothing: antialiased\; -webkit-tap-highlight-color: transparent\; color: rgb(0\, 0\, 255)\;" tabindex="0">&quot\;register now&quot\;</span></a></span><span style="box-sizing: border-box\; border: 0px solid rgb(51\, 51\, 51)\; -webkit-font-smoothing: antialiased\; -webkit-tap-highlight-color: transparent\; font-family: arial\, sans-serif\; font-size: 16px\; color: rgb(255\, 0\, 0)\;" tabindex="0"><span style="box-sizing: border-box\; border: 0px solid rgb(51\, 51\, 51)\; font-weight: bolder\; -webkit-font-smoothing: antialiased\; -webkit-tap-highlight-color: transparent\;">&nbsp\;button and use the &quot\;Not a Member&quot\; link in the upper right side of the page to complete your online registration.</span></span></div>\n\n<div style="color: rgb(0\, 0\, 0)\; font-family: Arial\, Verdana\, Helvetica\, sans-serif\; font-size: 14px\; white-space: pre-wrap\;">&nbsp\;</div>\n\n<div style="color: rgb(0\, 0\, 0)\; font-family: Arial\, Verdana\, Helvetica\, sans-serif\; font-size: 14px\; white-space: pre-wrap\; text-align: center\;"><span style="color:#1e7679\;"><span style="font-weight: bold\; font-size: 18px\; text-decoration-line: underline\;">Save the date for the upcoming luncheons in this WIN series:</span></span></div>\n\n<div style="color: rgb(0\, 0\, 0)\; font-family: Arial\, Verdana\, Helvetica\, sans-serif\; font-size: 14px\; white-space: pre-wrap\;">&nbsp\;</div>\n\n<div style="color: rgb(0\, 0\, 0)\; font-family: Arial\, Verdana\, Helvetica\, sans-serif\; font-size: 14px\; white-space: pre-wrap\; text-align: center\;"><span style="font-weight: bold\;">December 2\, 2022 | </span>Walking the Tightrope (Dealing with Change)</div>\n\n<div style="color: rgb(0\, 0\, 0)\; font-family: Arial\, Verdana\, Helvetica\, sans-serif\; font-size: 14px\; white-space: pre-wrap\; text-align: center\;"><span style="font-weight: bold\;">March 3\, 2023 | </span>Juggling (Managing Multiple Priorities)</div>\n\n<div style="color: rgb(0\, 0\, 0)\; font-family: Arial\, Verdana\, Helvetica\, sans-serif\; font-size: 14px\; white-space: pre-wrap\; text-align: center\;"><span style="font-weight: bold\;">June 9\, 2023 | </span>The Human Cannonball (Communication)<br />\n&nbsp\;</div>\n</div>\n</div>\n</div>\n\n<div _mce_style="font-family: " font-size:="" new="" style="box-sizing: content-box\; bottom: auto\; clear: none\; color: rgb(0\, 38\, 100)\; content: normal\; direction: inherit\; empty-cells: show\; float: none\; font-variant-numeric: inherit\; font-variant-east-asian: inherit\; font-stretch: inherit\; font-size: 14px\; font-family: arial\, sans-serif\; left: auto\; line-height: inherit\; margin: 0px\; max-height: none\; max-width: none\; min-height: initial\; min-width: initial\; opacity: 1\; outline-offset: 0px\; overflow: visible\; padding: 0px\; position: static\; resize: none\; right: auto\; table-layout: auto\; text-overflow: clip\; top: auto\; vertical-align: baseline\; visibility: inherit\; word-break: inherit\; overflow-wrap: inherit\; z-index: auto\; background: none rgb(255\, 255\, 255)\; border: none\; border-collapse: separate\; border-radius: 0px\; height: auto\; width: auto\; box-shadow: none\;" times=""><span style="color: rgb(7\, 7\, 7)\; font-family: Arial\, Verdana\, Helvetica\, sans-serif\; font-size: 14px\; font-style: italic\; text-align: center\; white-space: pre-wrap\;">WIN&#39\;s mission is to empower and develop women through professional development luncheons\, networking\, mentoring and partnerships&nbsp\;to promote opportunities for all women throughout the entire tri-county area.</span></div>\n
LOCATION:Prattville Area Chamber of Commerce 131 North Court Street\, Prattville\, AL 36067
UID:e.1954.1983
SEQUENCE:3
DTSTAMP:20260424T093042Z
URL:https://online.prattvillechamber.com/events/details/2022-women-in-networking-professional-development-series-session-one-1983
END:VEVENT

END:VCALENDAR
