BEGIN:VCALENDAR
VERSION:2.0
PRODID:-//ChamberMaster//Event Calendar 2.0//EN
METHOD:PUBLISH
X-PUBLISHED-TTL:P3D
REFRESH-INTERVAL:P3D
CALSCALE:GREGORIAN
BEGIN:VEVENT
DTSTART:20220512T164500Z
DTEND:20220512T180000Z
X-MICROSOFT-CDO-ALLDAYEVENT:FALSE
SUMMARY:2022 May Chamber Luncheon Sponsored by International Paper
DESCRIPTION:You're invited to join us for the May Chamber Luncheon sponsored by International Paper!\n\n\n\nGain a little knowledge while building your connections by joining the Prattville Area Chamber of Commerce and our members for their May Chamber Champion Luncheon sponsored by International Paper. The Chamber's Monthly Luncheons are a great opportunity to connect with other business leaders in the area and each month is educational and completely different. This luncheon will feature a special presentation from International Paper Mill Manager Doug Black.\n\nMake your reservation and join us for a Chamber Luncheon with your Prattville Chamber! This is a great networking opportunity. Bring your business cards!\n\n\n\nMember login information is not available. If you are a member click the blue "register now" button and use the "Not a Member" link in the upper right side of the page to complete your online registration. You may also register by clicking the link below:\n\n\n\nClick here to register for the May Monthly Luncheon\n\n\n\nTicket sales close on May 10 at noon.
X-ALT-DESC;FMTTYPE=text/html:<p><span style="font-size:16px\;"><span style="font-family:arial\;">You&rsquo\;re invited to join us for the May Chamber Luncheon sponsored by International Paper!<br />\n<br />\n<span data-offset-key="3pg81-4-0" style="white-space: pre-wrap\; background-color: rgb(255\, 255\, 255)\;"><span data-text="true">Gain a little knowledge while building your connections by joining the Prattville Area Chamber of Commerce and our members for their May Chamber Champion Luncheon sponsored by International Paper. The Chamber&#39\;s Monthly Luncheons are a great opportunity to connect with other business leaders in the area and each month is educational and completely different. This luncheon will feature a special presentation from International Paper Mill Manager Doug Black.</span></span></span></span></p>\n\n<p><span style="font-size:16px\;"><span style="font-family: arial\; white-space: pre-wrap\;">Make your reservation and join us for a Chamber Luncheon with your Prattville Chamber! </span><em style="font-family: arial\;"><span style="font-style: normal\;">This is a great networking opportunity.&nbsp\;Bring your business cards!</span></em></span><br />\n<br />\n<span style="font-family:arial\;"><span style="font-size: 16px\;"><span style="color: rgb(255\, 0\, 0)\;"><strong>Member login information is not available. If you are a member click the blue &quot\;</strong></span><strong><a href="https://prattvillechamber.chambermaster.com/eventregistration/register/1966"><span style="color:#0000FF\;">register now</span></a></strong><span style="color: rgb(255\, 0\, 0)\;"><strong>&quot\; button and use the &quot\;<u>Not a Member</u>&quot\; link in the upper right side of the page to complete your online registration. You may also register by clicking the link below:</strong></span><br />\n<br />\n<u><strong><a href="https://prattvillechamber.chambermaster.com/eventregistration/register/1966"><span style="color:#0000FF\;">Click here to register for the May Monthly Luncheon</span></a></strong></u><br />\n<br />\n<span style="color: rgb(255\, 0\, 0)\;"><strong>Ticket sales close on May 10&nbsp\;at noon.</strong></span></span></span><br />\n&nbsp\;</p>\n
LOCATION:Marriott Legends 2500 Legends Circle Prattville\, AL 36066
UID:e.1954.1966
SEQUENCE:3
DTSTAMP:20260424T142336Z
URL:https://online.prattvillechamber.com/events/details/2022-may-chamber-luncheon-sponsored-by-international-paper-1966
END:VEVENT

END:VCALENDAR
