BEGIN:VCALENDAR
VERSION:2.0
PRODID:-//ChamberMaster//Event Calendar 2.0//EN
METHOD:PUBLISH
X-PUBLISHED-TTL:P3D
REFRESH-INTERVAL:P3D
CALSCALE:GREGORIAN
BEGIN:VEVENT
DTSTART:20220615T164500Z
DTEND:20220615T180000Z
X-MICROSOFT-CDO-ALLDAYEVENT:FALSE
SUMMARY:2022 June Chamber Luncheon Sponsored by Central Alabama Electric Coop
DESCRIPTION:You're invited to join us for the June Chamber Luncheon sponsored by Central Alabama Electric Coop!\n\n\n\nGain a little knowledge while building your connections by joining the Prattville Area Chamber of Commerce and our members for their May Chamber Champion Luncheon sponsored by International Paper. The Chamber's Monthly Luncheons are a great opportunity to connect with other business leaders in the area and each month is educational and completely different. This luncheon will feature a special presentation from Lori Rasmussen\, Executive Director for the Alabama Redtail Scholarship Foundation.\n\nMake your reservation and join us for a Chamber Luncheon with your Prattville Chamber! This is a great networking opportunity. Bring your business cards!\n\n\n\nMember login information is not available. If you are a member click the blue "register now" button and use the "Not a Member" link in the upper right side of the page to complete your online registration. You may also register by clicking the link below:\n\n\n\nClick here to register for the June Monthly Luncheon\n\n\n\nTicket sales close on June 13 at noon.
X-ALT-DESC;FMTTYPE=text/html:<p><span style="font-size:16px\;"><span style="font-family:arial\;">You&rsquo\;re invited to join us for the June&nbsp\;Chamber Luncheon sponsored by Central Alabama Electric Coop!<br />\n<br />\n<span data-offset-key="3pg81-4-0" style="white-space: pre-wrap\; background-color: rgb(255\, 255\, 255)\;"><span data-text="true">Gain a little knowledge while building your connections by joining the Prattville Area Chamber of Commerce and our members for their May Chamber Champion Luncheon sponsored by International Paper. The Chamber&#39\;s Monthly Luncheons are a great opportunity to connect with other business leaders in the area and each month is educational and completely different. This luncheon will feature a special presentation from </span></span><span style="white-space: pre-wrap\;">Lori Rasmussen\, Executive Director for the Alabama Redtail Scholarship Foundation.</span></span></span></p>\n\n<p><span style="font-size:16px\;"><span style="font-family: arial\; white-space: pre-wrap\;">Make your reservation and join us for a Chamber Luncheon with your Prattville Chamber! </span><em style="font-family: arial\;"><span style="font-style: normal\;">This is a great networking opportunity.&nbsp\;Bring your business cards!</span></em></span><br />\n<br />\n<span style="font-family:arial\;"><span style="font-size: 16px\;"><strong><span style="color:#FF0000\;">Member login information is not available. If you are a member click the blue</span> &quot\;<a href="https://prattvillechamber.chambermaster.com/eventregistration/register/1966">register now</a>&quot\; <span style="color:#FF0000\;">button and use the &quot\;<u>Not a Member</u>&quot\; link in the upper right side of the page to complete your online registration. You may also register by clicking the link below:</span></strong><br />\n<br />\n<u><strong><a href="https://prattvillechamber.chambermaster.com/eventregistration/register/1972">Click here to register for the June&nbsp\;Monthly Luncheon</a></strong></u><br />\n<br />\n<span style="color:#FF0000\;"><strong>Ticket sales close on June 13&nbsp\;at noon.</strong></span></span></span><br />\n&nbsp\;</p>\n
LOCATION:Marriott Legends 2500 Legends Circle Prattville\, AL 36066
UID:e.1954.1972
SEQUENCE:3
DTSTAMP:20260424T125614Z
URL:https://online.prattvillechamber.com/events/details/2022-june-chamber-luncheon-sponsored-by-central-alabama-electric-coop-1972
END:VEVENT

END:VCALENDAR
