BEGIN:VCALENDAR
VERSION:2.0
PRODID:-//ChamberMaster//Event Calendar 2.0//EN
METHOD:PUBLISH
X-PUBLISHED-TTL:P3D
REFRESH-INTERVAL:P3D
CALSCALE:GREGORIAN
BEGIN:VEVENT
DTSTART:20211117T174500Z
DTEND:20211117T190000Z
X-MICROSOFT-CDO-ALLDAYEVENT:FALSE
SUMMARY:2021 November Chamber Luncheon Sponsored by MAX Credit Union
DESCRIPTION:You're invited to join us for the November Chamber Luncheon sponsored by MAX Credit Union!\n\n\n\nGain a little knowledge while building your connections by joining the Prattville Area Chamber of Commerce and our members for their November Chamber Champion Luncheon sponsored by MAX Credit Union. The Chamber's Monthly Luncheons are a great opportunity to connect with other business leaders in the area and each month is educational and completely different.\n\nMake your reservation and join us for a Chamber Luncheon with your Prattville Chamber! \n\n\n\nMember login information is not available. If you are a member click the blue "register now" button and use the "Not a Member" link in the upper right side of the page to complete your online registration. \n\n\n\nTicket sales close on November 16\, 2021\, at noon.\n\n\n\nThis is a great networking opportunity.  Bring your business cards!
X-ALT-DESC;FMTTYPE=text/html:<p><span style="font-family:arial\;"><span style="font-size:14px\;">You&rsquo\;re invited to join us for the November Chamber Luncheon sponsored by MAX Credit Union!</span><br />\n<br />\n<span style="font-size:14px\;"><span data-offset-key="3pg81-4-0" style="color: rgb(28\, 30\, 33)\; white-space: pre-wrap\; background-color: rgb(255\, 255\, 255)\;"><span data-text="true">Gain a little knowledge while building your connections by joining the Prattville Area Chamber of Commerce and our members for their November Chamber Champion Luncheon sponsored by MAX Credit Union. The Chamber&#39\;s Monthly Luncheons are a great opportunity to connect with other business leaders in the area and each month is educational and completely different.</span></span></span></span></p>\n\n<p><span style="font-size: 14px\; font-family: arial\; color: rgb(28\, 30\, 33)\; white-space: pre-wrap\;">Make your reservation and join us for a Chamber Luncheon with your Prattville Chamber! </span><br />\n<br />\n<span style="font-family:arial\;"><span style="font-size: 16px\;"><span style="color: rgb(255\, 0\, 0)\;"><strong>Member login information is not available. If you are a member click the blue &quot\;register now&quot\; button and use the &quot\;Not a Member&quot\; link in the upper right side of the page to complete your online registration.&nbsp\;<br />\n<br />\nTicket sales close on November 16\, 2021\, at noon.</strong></span></span><br />\n<br />\n<em><span style="font-style: normal\;"><span style="font-size: 12pt\;"><span style="color: black\;">This is a great networking opportunity.&nbsp\; Bring your business cards!</span></span></span></em></span></p>\n
LOCATION:Catfish House 3011 Cobbs Ford Road Millbrook\, AL 36054
UID:e.1954.1935
SEQUENCE:3
DTSTAMP:20260425T001531Z
URL:https://online.prattvillechamber.com/events/details/2021-november-chamber-luncheon-sponsored-by-max-credit-union-1935
END:VEVENT

END:VCALENDAR
