BEGIN:VCALENDAR
VERSION:2.0
PRODID:-//ChamberMaster//Event Calendar 2.0//EN
METHOD:PUBLISH
X-PUBLISHED-TTL:P3D
REFRESH-INTERVAL:P3D
CALSCALE:GREGORIAN
BEGIN:VEVENT
DTSTART:20211215T174500Z
DTEND:20211215T190000Z
X-MICROSOFT-CDO-ALLDAYEVENT:FALSE
SUMMARY:2021 December Chamber Luncheon Sponsored by BWS Technologies
DESCRIPTION:You're invited to join us for the December Chamber Luncheon sponsored by BWS Technologies!\n\n\n\nGain a little knowledge while building your connections by joining the Prattville Area Chamber of Commerce and our members for their December Chamber Champion Luncheon sponsored by BWS Technologies. The Chamber's Monthly Luncheons are a great opportunity to connect with other business leaders in the area and each month is educational and completely different. The guest speaker will be Autauga County Schools Superintendent Tim Tidmore.\n\nMake your reservation and join us for a Chamber Luncheon with your Prattville Chamber! \n\n\n\nMember login information is not available. If you are a member click the blue "register now" button and use the "Not a Member" link in the upper right side of the page to complete your online registration. \n\n\n\nTicket sales close on December 13th at noon.\n\n\n\nThis is a great networking opportunity.  Bring your business cards!
X-ALT-DESC;FMTTYPE=text/html:<p><span style="font-family:arial\;"><span style="font-size:14px\;">You&rsquo\;re invited to join us for the December&nbsp\;Chamber Luncheon sponsored by BWS Technologies!</span><br />\n<br />\n<span style="font-size:14px\;"><span data-offset-key="3pg81-4-0" style="color: rgb(28\, 30\, 33)\; white-space: pre-wrap\; background-color: rgb(255\, 255\, 255)\;"><span data-text="true">Gain a little knowledge while building your connections by joining the Prattville Area Chamber of Commerce and our members for their December Chamber Champion Luncheon sponsored by BWS Technologies. The Chamber&#39\;s Monthly Luncheons are a great opportunity to connect with other business leaders in the area and each month is educational and completely different. </span></span></span></span><span style="color: rgb(28\, 30\, 33)\; font-family: arial\; font-size: 14px\; white-space: pre-wrap\;">The guest speaker will be Autauga County Schools Superintendent Tim Tidmore.</span></p>\n\n<p><span style="font-size: 14px\; font-family: arial\; color: rgb(28\, 30\, 33)\; white-space: pre-wrap\;">Make your reservation and join us for a Chamber Luncheon with your Prattville Chamber! </span><br />\n<br />\n<span style="font-family:arial\;"><span style="font-size: 16px\;"><span style="color: rgb(255\, 0\, 0)\;"><strong>Member login information is not available. If you are a member click the blue &quot\;register now&quot\; button and use the &quot\;Not a Member&quot\; link in the upper right side of the page to complete your online registration.&nbsp\;<br />\n<br />\nTicket sales close on December 13th&nbsp\;at noon.</strong></span></span><br />\n<br />\n<em><span style="font-style: normal\;"><span style="font-size: 12pt\;"><span style="color: black\;">This is a great networking opportunity.&nbsp\; Bring your business cards!</span></span></span></em></span></p>\n
LOCATION:Marriott Legends 2500 Legends Circle Prattville\, AL 36066
UID:e.1954.1941
SEQUENCE:3
DTSTAMP:20260424T221904Z
URL:https://online.prattvillechamber.com/events/details/2021-december-chamber-luncheon-sponsored-by-bws-technologies-1941
END:VEVENT

END:VCALENDAR
